BEGIN:VCALENDAR
VERSION:2.0
PRODID:-//wp-events-plugin.com//7.2.3.1//EN
TZID:Europe/Berlin
X-WR-TIMEZONE:Europe/Berlin
BEGIN:VEVENT
UID:795@frauenportal.koeln
DTSTART;TZID=Europe/Berlin:20180621T100000
DTEND;TZID=Europe/Berlin:20180621T123000
DTSTAMP:20180531T164149Z
URL:https://frauenportal.koeln/veranstaltungen/coaching-club-2018-06-21/
SUMMARY:Coaching Club
DESCRIPTION:Jenion Thomkins zu ihrem Angebot:\n\n"’nen Scheiß muss ich!\
 n\n'Ich muss abnehmen!'\, 'Ich muss immer nett zu anderen sein!' oder „Z
 u schön um wahr zu sein!“ So bremst uns fortgesetzt der innere Kritiker
  und das 'Muss-Monster' zwingt uns zum ständigen Bravsein. Wie wir das ä
 ndern und freundlicher zu uns selbst werden\, zeige ich gern mit NLP\, Hum
 or und Tiefgang!\n\nWas ist der Coaching-Club?\n\nEr ist Jenisons Networki
 ng-Angebot im Rahmen des Netzwerks Femme Total\, das sie 1999 gegründet h
 at. Im Coaching-Club geht es um intensive Gespräche\, Supervision und Coa
 ching.\nEs gibt immer ein Thema und eine NLP-Methode\, die praktisch vorge
 stellt und angewandt wird.\nJede/r kann ein aktuelles Thema oder Anliegen 
 vertrauensvoll auf den Tisch legen.\nMänner sind ebenfalls herzlich willk
 ommen :-)"\n\nKostenbeitrag: 15 Euro / 12 Euro für Vereinsmitglieder von 
 FEMME TOTAL\n\nWeitere Informationen und Anmeldung bis einen Tag vorher be
 i: Jenison Thomkins
END:VEVENT
BEGIN:VTIMEZONE
TZID:Europe/Berlin
X-LIC-LOCATION:Europe/Berlin
BEGIN:DAYLIGHT
DTSTART:20180325T030000
TZOFFSETFROM:+0100
TZOFFSETTO:+0200
TZNAME:CEST
END:DAYLIGHT
END:VTIMEZONE
END:VCALENDAR