BEGIN:VCALENDAR
VERSION:2.0
PRODID:-//wp-events-plugin.com//7.2.3.1//EN
TZID:Europe/Berlin
X-WR-TIMEZONE:Europe/Berlin
BEGIN:VEVENT
UID:2259@frauenportal.koeln
DTSTART;TZID=Europe/Berlin:20200227T100000
DTEND;TZID=Europe/Berlin:20200227T123000
DTSTAMP:20200131T135632Z
URL:https://frauenportal.koeln/veranstaltungen/coaching-club-3-2020-02-27/
SUMMARY:Coaching Club
DESCRIPTION:Jenison Thomkins zu ihrem Angebot:\n\n"Bestellungen ans Univers
 um.\n\nDiesmal geht im Coaching-Club es um die richtige Formulierung eines
  heiß ersehnten Zieles und wie du die heißen Wünsche und Herzensziele s
 o verschickst\, dass das Universum sie auch versteht und dir das Gewünsch
 te liefern kann!\nAspekte wie absichtslose Neugier\, innere Erlaubnis und 
 Motivations-Strategie erlebst du in Theorie und Praxis. Mit Jenisons Coach
 ing-Methoden: 'Hängemattenmodus' und '8er Bahn des Lebens' tauchst du ein
  die die Funktionsweise des 'kosmischen Bestellservices'\, wie Bärbel Moh
 r es nannte :-)\n\nIn diesem Vortragsvideo erklärt Jenison mit praktische
 n Übungen\, wie du richtig beim Universum bestellst."\n\nKostenbeitrag: 1
 5 Euro / 12 Euro für Vereinsmitglieder von FEMME TOTAL\n\nWeitere Informa
 tionen und Anmeldung bis einen Tag vorher bei: Jenison Thomkins
END:VEVENT
BEGIN:VTIMEZONE
TZID:Europe/Berlin
X-LIC-LOCATION:Europe/Berlin
BEGIN:STANDARD
DTSTART:20191027T020000
TZOFFSETFROM:+0200
TZOFFSETTO:+0100
TZNAME:CET
END:STANDARD
END:VTIMEZONE
END:VCALENDAR