BEGIN:VCALENDAR
VERSION:2.0
PRODID:-//wp-events-plugin.com//7.2.3.1//EN
TZID:Europe/Berlin
X-WR-TIMEZONE:Europe/Berlin
BEGIN:VEVENT
UID:2262@frauenportal.koeln
DTSTART;TZID=Europe/Berlin:20200514T100000
DTEND;TZID=Europe/Berlin:20200514T123000
DTSTAMP:20200430T130236Z
URL:https://frauenportal.koeln/veranstaltungen/coaching-club-3-2020-05-14/
SUMMARY:Coaching-Online-Club
DESCRIPTION:Jenison Thomkins zu ihrem Angebot:\n\n"Der Coaching Club findet
  Online statt. Melde dich an und du erhältst rechtzeitig deine Rechnung u
 nd den Anmeldelink.\n\nWie kannst du dich motivieren\, deine Projekte tatk
 räftig anzugehen? Welche Ressourcen benötigst du dazu? Wie überwindest 
 du deinen inneren Schweinehund? Und welche Hindernisse musst du noch besei
 tigen? Mithilfe der 'vierpoligen Motivations-Strategie' kommst du in Fahrt
  und bleibst auf der richtigen Spur."\n\nKostenbeitrag: 15 Euro / 12 Euro 
 für Vereinsmitglieder von FEMME TOTAL\n\nWeitere Informationen und Anmeld
 ung bis einen Tag vorher bei: Jenison Thomkins
END:VEVENT
BEGIN:VTIMEZONE
TZID:Europe/Berlin
X-LIC-LOCATION:Europe/Berlin
BEGIN:DAYLIGHT
DTSTART:20200329T030000
TZOFFSETFROM:+0100
TZOFFSETTO:+0200
TZNAME:CEST
END:DAYLIGHT
END:VTIMEZONE
END:VCALENDAR