BEGIN:VCALENDAR
VERSION:2.0
PRODID:-//wp-events-plugin.com//7.2.3.1//EN
TZID:Europe/Berlin
X-WR-TIMEZONE:Europe/Berlin
BEGIN:VEVENT
UID:2264@frauenportal.koeln
DTSTART;TZID=Europe/Berlin:20200709T100000
DTEND;TZID=Europe/Berlin:20200709T123000
DTSTAMP:20200630T135122Z
URL:https://frauenportal.koeln/veranstaltungen/coaching-club-3-2020-07-09/
SUMMARY:Coaching Club online
DESCRIPTION:Die Sehnsucht der Ahnen – wie unsere Familiengeschichte uns u
 nbewusst in allen Lebenslagen und im Beruf beeinflusst! \n\nJenison Thomki
 ns zu ihrem Angebot:\n\n"Finde verborgene vererbte Botschaften und Aufträ
 ge heraus! Löse dich von Verstrickungen mit der Vergangenheit durch Würd
 igung und Neureflektion:-)\n\nAus der Epigenetik wissen wir\, dass besonde
 rs wichtige Lehren und Erkenntnisse\, sowie körperliche und seelische Sym
 ptome in der Familie an bis zu 4 Generationen weitergegeben werden können
 . Deshalb ist es wichtig zu klären\, was in deinem Leben und an deinem Ve
 rhalten du ändern kannst und wo du tiefer graben musst!\n\nLass dich ber
 ühren und erkenne wesentliche Muster in deinem Leben\, die eine lange Vor
 geschichte haben!"\n\nKostenbeitrag: 15 Euro / 12 Euro für Vereinsmitglie
 der von FEMME TOTAL\, Tickets: www.eventbrite.de\n\nWeitere Informationen 
 und Anmeldung bis einen Tag vorher bei: Jenison Thomkins
END:VEVENT
BEGIN:VTIMEZONE
TZID:Europe/Berlin
X-LIC-LOCATION:Europe/Berlin
BEGIN:DAYLIGHT
DTSTART:20200329T030000
TZOFFSETFROM:+0100
TZOFFSETTO:+0200
TZNAME:CEST
END:DAYLIGHT
END:VTIMEZONE
END:VCALENDAR