BEGIN:VCALENDAR
VERSION:2.0
PRODID:-//wp-events-plugin.com//7.2.3.1//EN
TZID:Europe/Berlin
X-WR-TIMEZONE:Europe/Berlin
BEGIN:VEVENT
UID:2266@frauenportal.koeln
DTSTART;TZID=Europe/Berlin:20200917T100000
DTEND;TZID=Europe/Berlin:20200917T123000
DTSTAMP:20200831T173009Z
URL:https://frauenportal.koeln/veranstaltungen/coaching-club-3-2020-09-17/
SUMMARY:Coaching Club online
DESCRIPTION:- Wie du dich von Sorgen und Schuld befreist -\n\nJenison Thomk
 ins zu ihrem Angebot:\n\n"Selten waren sich alle Teilnehmer*Innen der Futu
 re Tools Fortbildung vom DVNLP so einig: Der Wholeness Process von Connira
 e Andreas\, einer NLP´lerin der ersten Stunde\, hat uns alle begeistert! 
 Statt langwierig nach Ursachen in der Vergangenheit zu forschen und mögli
 cherweise dadurch retraumatisiert zu werden\, bietet diese Arbeit eine fas
 zinierend einfache Methode\, um dich von Sorgen und Schuld zu befreien. In
  Form einer tiefen\, hypnotischen Seelenreise erlebst du eine unfassbare i
 nnere Ruhe und Gelassenheit gegenüber tiefen Kränkungen und Blockaden. 
  Spannend und erweiternd für alle AnwenderInnen des Core Transformation 
 Processes\, den Connirae schon vor langer Zeit erfunden hat!"\n\nKostenbei
 trag: 15 Euro / 12 Euro für Vereinsmitglieder von FEMME TOTAL\n\nWeitere 
 Informationen und Anmeldung bis einen Tag vorher bei: Jenison Thomkins
END:VEVENT
BEGIN:VTIMEZONE
TZID:Europe/Berlin
X-LIC-LOCATION:Europe/Berlin
BEGIN:DAYLIGHT
DTSTART:20200329T030000
TZOFFSETFROM:+0100
TZOFFSETTO:+0200
TZNAME:CEST
END:DAYLIGHT
END:VTIMEZONE
END:VCALENDAR