BEGIN:VCALENDAR
VERSION:2.0
PRODID:-//wp-events-plugin.com//7.2.3.1//EN
TZID:Europe/Berlin
X-WR-TIMEZONE:Europe/Berlin
BEGIN:VEVENT
UID:2267@frauenportal.koeln
DTSTART;TZID=Europe/Berlin:20201015T100000
DTEND;TZID=Europe/Berlin:20201015T123000
DTSTAMP:20200930T142929Z
URL:https://frauenportal.koeln/veranstaltungen/coaching-club-3-2020-10-15/
SUMMARY:Coaching Club online
DESCRIPTION:Jenison Thomkins zu ihrem Angebot:\n\n"Folge deiner eigenen Spu
 r!\n\nMarion Brando sagte: 'Auf meinem eigenen Weg kann mich niemand über
 holen!' Klare Worte! Und wer entscheidet denn bei dir meistens\, der Kopf 
 oder der Bauch? Um deiner eigenen Spur zu folgen brauchst du beides. Doch 
 wie findest du heraus\, was du wirklich willst? Und wie bewegst du den Kop
 f dazu\, mitzumachen und nicht immer nur klug zu schwätzen oder alles anz
 uzweifeln? 'Somatische Marker' rücken an diesem Vormittag in den Fokus. W
 ir erforschen die Signale des Körpers und du spürst einen beglückenden 
 inneren Frieden!"\n\nKostenbeitrag: 15 Euro / 12 Euro für Vereinsmitglied
 er von FEMME TOTAL\n\nWeitere Informationen und Anmeldung bis einen Tag vo
 rher bei: Jenison Thomkins
END:VEVENT
BEGIN:VTIMEZONE
TZID:Europe/Berlin
X-LIC-LOCATION:Europe/Berlin
BEGIN:DAYLIGHT
DTSTART:20200329T030000
TZOFFSETFROM:+0100
TZOFFSETTO:+0200
TZNAME:CEST
END:DAYLIGHT
END:VTIMEZONE
END:VCALENDAR