BEGIN:VCALENDAR
VERSION:2.0
PRODID:-//wp-events-plugin.com//7.2.3.1//EN
TZID:Europe/Berlin
X-WR-TIMEZONE:Europe/Berlin
BEGIN:VEVENT
UID:2269@frauenportal.koeln
DTSTART;TZID=Europe/Berlin:20201210T100000
DTEND;TZID=Europe/Berlin:20201210T123000
DTSTAMP:20201130T153447Z
URL:https://frauenportal.koeln/veranstaltungen/coaching-club-3-2020-12-10/
SUMMARY:Coaching Club online
DESCRIPTION:Jenison Thomkins zu ihrem Angebot:\n\n"Mithilfe tiefgehender NL
 P-Formate findest du heraus\, wie du von Unnützem und Negativem ohne Bauc
 hschmerzen und Hadern loslassen kannst. Ob zugemüllter Schreibtisch\, bel
 astende Beziehungen oder negative Glaubenssätze\, du erlebst die befreien
 de Wirkung von innerer Klärung und Ordnung\, die es dir leicht macht\, Pr
 ioritäten für ein selbstbestimmtes Leben zu setzen."\n\nKostenbeitrag: 1
 5 Euro / 12 Euro für Vereinsmitglieder von FEMME TOTAL\n\nWeitere Informa
 tionen und Anmeldung bis einen Tag vorher bei: Jenison Thomkins
END:VEVENT
BEGIN:VTIMEZONE
TZID:Europe/Berlin
X-LIC-LOCATION:Europe/Berlin
BEGIN:STANDARD
DTSTART:20201025T020000
TZOFFSETFROM:+0200
TZOFFSETTO:+0100
TZNAME:CET
END:STANDARD
END:VTIMEZONE
END:VCALENDAR