BEGIN:VCALENDAR
VERSION:2.0
PRODID:-//wp-events-plugin.com//7.2.3.1//EN
TZID:Europe/Berlin
X-WR-TIMEZONE:Europe/Berlin
BEGIN:VEVENT
UID:3041@frauenportal.koeln
DTSTART;TZID=Europe/Berlin:20210114T100000
DTEND;TZID=Europe/Berlin:20210114T123000
DTSTAMP:20201218T134337Z
URL:https://frauenportal.koeln/veranstaltungen/coaching-club-4-2021-01-14/
SUMMARY:Coaching Club online
DESCRIPTION:Im Coaching-Club geht es um intensive Gespräche\, Supervision 
 und Coaching. Es gibt immer ein Thema und eine NLP-Methode\, die praktisch
  vorgestellt und angewandt wird. Jede kann ihr aktuelles Thema oder Anlieg
 en vertrauensvoll auf den Tisch legen.\n\nDies ist das Jahresprogramm 2021
 : Coaching-Club_2021 (pdf-Datei: 242 KB)\n\nKostenbeitrag: 15 Euro / 12 Eu
 ro für Vereinsmitglieder von FEMME TOTAL\n\nAnmeldelink: www.eventbrite.d
 e/e/deine-ziele-in-2021-coaching-club-tickets-133002842081\n\nWeitere Info
 rmationen und Anmeldung bis einen Tag vorher bei: Jenison Thomkins
END:VEVENT
BEGIN:VTIMEZONE
TZID:Europe/Berlin
X-LIC-LOCATION:Europe/Berlin
BEGIN:STANDARD
DTSTART:20201025T020000
TZOFFSETFROM:+0200
TZOFFSETTO:+0100
TZNAME:CET
END:STANDARD
END:VTIMEZONE
END:VCALENDAR