BEGIN:VCALENDAR
VERSION:2.0
PRODID:-//wp-events-plugin.com//7.2.3.1//EN
TZID:Europe/Berlin
X-WR-TIMEZONE:Europe/Berlin
BEGIN:VEVENT
UID:452@frauenportal.koeln
DTSTART;TZID=Europe/Berlin:20170713T100000
DTEND;TZID=Europe/Berlin:20170713T123000
DTSTAMP:20170630T060509Z
URL:https://frauenportal.koeln/veranstaltungen/coaching-club/
SUMMARY:Coaching Club  
DESCRIPTION:Jenison Thomkins über ihr Angebot:\n\n"‚Die Sehnsucht der Ah
 nen‘– wie unsere Familiengeschichte uns unbewusst im Beruf beeinflusst
  und als Familienerbe zur Ressource werden kann? Wir erben nicht nur die N
 ase oder die Talente unserer Ahnen\, sondern halten ihnen in besonderer We
 ise unbewusst die Treue\, nämlich indem wir ihre geheimen Sehnsüchte leb
 en. Das hat positive wie negative Auswirkungen. Mithilfe einer musikalisch
 en Trancereise zu euren Eltern und einer ‚Ahnenbefragung mit Versöhnung
 ‘ zeige ich euch\, wie ihr unbewusst von euren Vorfahren übernommene Bo
 tschaften und Aufträge identifiziert\, neu bewertet und positiv unterstü
 tzend für euch nutzen könnt. Dieses Wissen ist äußerst wertvoll und er
 klärt euch viele\, sonst unverständliche Schritte und Entscheidungen in 
 eurer beruflichen (und privaten) Lebenslaufbahn. Was ist der Coaching-Club
 ? Er ist Jenisons Networking-Angebot im Rahmen des Netzwerks Femme Total\,
  das sie 1999 gegründet hat. Im Coaching-Club geht es um intensive Gespr
 äche\, Supervision und Coaching. Es gibt immer ein Thema und eine NLP-Met
 hode\, die praktisch vorgestellt und angewandt wird. Jede/r kann ein aktue
 lles Thema oder Anliegen vertrauensvoll auf den Tisch legen. Männer sind 
 ebenfalls herzlich willkommen."\n\nKostenbeitrag: 15 Euro / 12 Euro für V
 ereinsmitglieder\n\nWeitere Informationen und Anmeldung bis einen Tag vorh
 er bei: Jenison Thomkins
END:VEVENT
BEGIN:VTIMEZONE
TZID:Europe/Berlin
X-LIC-LOCATION:Europe/Berlin
BEGIN:DAYLIGHT
DTSTART:20170326T030000
TZOFFSETFROM:+0100
TZOFFSETTO:+0200
TZNAME:CEST
END:DAYLIGHT
END:VTIMEZONE
END:VCALENDAR