BEGIN:VCALENDAR
VERSION:2.0
PRODID:-//wp-events-plugin.com//7.2.3.1//EN
TZID:Europe/Berlin
X-WR-TIMEZONE:Europe/Berlin
BEGIN:VEVENT
UID:6141@frauenportal.koeln
DTSTART;TZID=Europe/Berlin:20260710T110000
DTEND;TZID=Europe/Berlin:20260710T140000
DTSTAMP:20260228T110358Z
URL:https://frauenportal.koeln/veranstaltungen/consent-nur-ja-heisst-ja-wo
 rkshop-nur-fuer-frauen-2/
SUMMARY:Consent: Nur Ja heißt Ja! – Workshop nur für Frauen
DESCRIPTION:In diesem Workshop für Frauen gibt es die Gelegenheit\, sich m
 it dem Thema Consent (dt. Zustimmung\, Einwilligung) in geschützter Atmos
 phäre auseinanderzusetzen.\n\nDer Workshop erfordert keine Vorerfahrungen
  und die eigenen Grenzen werden gewahrt.\n\nWir behandeln folgende Aspekte
 :\n\n\n	Was ist Consent?\n\n\n	Warum ist Consent wichtig?\n\n\n	Wie sensib
 ilisieren wir uns selbst und andere?\n\n\n	Wie können hilfreiche Umgangsw
 eisen aussehen?\n\n\nLeitung:\nSvenja Haas\, Mitarbeiterinnen der Frauenbe
 ratungsstelle\n\nVeranstalterinnen:\nFrauenLeben e.V. Köln\, Frauenberatu
 ngsstelle\nVHS Köln\, www.vhs-koeln.de \nAnsprechpartnerin:\nMargret Schn
 etgöke\, Tel.: 0221 / 954 16 60\, E-Mail:\n\nmail@frauenleben.org\nKosten
  / Anmeldung:\nDas Angebot ist kostenfrei. Anmeldung erforderlich: www.koe
 lner-vhs.de/kurssuche/kurs/CONSENT-Nur-Ja-heisst-Ja-Workshop-nur-fuer-Frau
 en/26X111092
LOCATION:FrauenLeben\, Venloer Str. 405-407\, 50825 Köln
GEO:50.95189;6.91379
X-APPLE-STRUCTURED-LOCATION;VALUE=URI;X-ADDRESS=Venloer Str. 405-407\, Köl
 n\, 50825\, Frauenorganisation\, Deutschland;X-APPLE-RADIUS=100;X-TITLE=Fr
 auenLeben:geo:50.95189,6.91379
END:VEVENT
BEGIN:VTIMEZONE
TZID:Europe/Berlin
X-LIC-LOCATION:Europe/Berlin
BEGIN:DAYLIGHT
DTSTART:20260329T030000
TZOFFSETFROM:+0100
TZOFFSETTO:+0200
TZNAME:CEST
END:DAYLIGHT
END:VTIMEZONE
END:VCALENDAR