BEGIN:VCALENDAR
VERSION:2.0
PRODID:-//wp-events-plugin.com//7.2.3.1//EN
TZID:Europe/Berlin
X-WR-TIMEZONE:Europe/Berlin
BEGIN:VEVENT
UID:3209@frauenportal.koeln
DTSTART;TZID=Europe/Berlin:20210310T200000
DTEND;TZID=Europe/Berlin:20210310T220000
DTSTAMP:20211018T130319Z
URL:https://frauenportal.koeln/veranstaltungen/cooking-for-hot-meals-mit-h
 aya-molcho/
SUMMARY:Cooking for Hot Meals mit Haya Molcho
DESCRIPTION:Gemeinsames Kochen und Reden für den guten Zweck mit der Grün
 derin der NENI-Restaurants und Kochbuchautorin Haya Molcho (https://de.wik
 ipedia.org/wiki/Haya_Molcho).\n\nAus der Einladung:\n"Lasst Euch inspirier
 en\, von positiver Energie anstecken und lecker kochen. Wir freuen uns!"\n
 \nVeranstalterin:\nWIZO Gruppe und AVIV Köln e.V.\, WIZO Köln\n\nAnsprec
 hpartnerin:\nGoldita Nasta\, E-Mail: wizocgn@gmail.com\n\nAnmeldung:\nWeit
 ere Informationen und Anmeldung unter: wizocgn@gmail.com\n\nVeranstaltungs
 ort:\nonline
END:VEVENT
BEGIN:VTIMEZONE
TZID:Europe/Berlin
X-LIC-LOCATION:Europe/Berlin
BEGIN:STANDARD
DTSTART:20201025T020000
TZOFFSETFROM:+0200
TZOFFSETTO:+0100
TZNAME:CET
END:STANDARD
END:VTIMEZONE
END:VCALENDAR