BEGIN:VCALENDAR
VERSION:2.0
PRODID:-//wp-events-plugin.com//7.2.3.1//EN
TZID:Europe/Berlin
X-WR-TIMEZONE:Europe/Berlin
BEGIN:VEVENT
UID:1109@frauenportal.koeln
DTSTART;TZID=Europe/Berlin:20180504T190000
DTEND;TZID=Europe/Berlin:20180504T210000
DTSTAMP:20180501T000328Z
URL:https://frauenportal.koeln/veranstaltungen/das-geheimnis-kluger-entsch
 eidungen-nlp-info-workshop/
SUMMARY:Das Geheimnis kluger Entscheidungen – NLP-Info-Workshop
DESCRIPTION:Jenison Thomkins zu ihrem Angebot:\n\n"Wer entscheidet bei dir 
 vorwiegend\, der Kopf oder der Bauch? Kluge Entscheidungen brauchen beides
 . Doch wie findest du eigentlich heraus\, was der Bauch will? Und wie bewe
 gst du den Kopf dazu\, zu kooperieren\, anstatt klug zu schwätzen oder zu
  zweifeln? „Somatische Marker“ rücken an diesem Vormittag in den Foku
 s. Wir erforschen die Signale des Körpers und du spürst einen beglücken
 den inneren Frieden!\n\nMethodische Info:\nNLP geht den Dingen auf den Gru
 nd.\nAuch beim Problem des ‚Festhalten-Wollens‘ geht es im 1. Schritt 
 darum\, das zugrundeliegende Bedürfnis zu finden\, das von Mensch zu Mens
 ch unterschiedlich sein kann.\n\nIm 2. Schritt wird eine stimmige Verhalte
 ns-Alternative gesucht und integriert\, die das Gefühl von Mangel verschw
 inden lässt! Dann ist das Loslassen kein Problem mehr:-)\n\nWas ist der I
 nfo-Workshop?\n\nEin kostenloser Info Workshop zu allen Veranstaltungen im
  Atelier! Für alle Practitioner-\, Master- und 4D-Typologie-Interessierte
 n ist dieser Abend eine gute Gelegenheit\, sich über meine Arbeit und all
 e anderen Fragen bezüglich der Ausbildungen und Bildungsurlaube der komme
 nden Zeit  zu informieren!\n\nWas geschieht beim NLP-Info-Workshop?\n\n 	A
 nkommen\, Kaffee und Tee trinken\n 	Trainer\, Assistent-Innen und andere n
 ette Menschen kennenlernen\n 	theoretische Einführung ins NLP-Thema\n 	Pr
 aktische Übung mit persönlichem Feedback\n 	allgemeine Infos zu NLP und 
 den aktuellen Ausbildungen und Workshops im Atelier für NLP&amp\;Persönl
 ichkeitsentwicklung\n\nDu bist an diesem Abend verhindert\, möchtest dich
  aber über das Jahresprogramm informieren? Gern lade ich dich zu allen we
 iteren Info-Workshops ein\, und bring deine Freunde/Partner/Familie mit!"\
 n\nMehr Infos und Anmeldung bei: Jenison Thomkins
END:VEVENT
BEGIN:VTIMEZONE
TZID:Europe/Berlin
X-LIC-LOCATION:Europe/Berlin
BEGIN:DAYLIGHT
DTSTART:20180325T030000
TZOFFSETFROM:+0100
TZOFFSETTO:+0200
TZNAME:CEST
END:DAYLIGHT
END:VTIMEZONE
END:VCALENDAR