BEGIN:VCALENDAR
VERSION:2.0
PRODID:-//wp-events-plugin.com//7.2.3.1//EN
TZID:Europe/Berlin
X-WR-TIMEZONE:Europe/Berlin
BEGIN:VEVENT
UID:2396@frauenportal.koeln
DTSTART;TZID=Europe/Berlin:20191201T140000
DTEND;TZID=Europe/Berlin:20191201T153000
DTSTAMP:20191021T093959Z
URL:https://frauenportal.koeln/veranstaltungen/de-schmitzens-ein-weihnacht
 sspektakel/
SUMMARY:De Schmitzens - Ein Weihnachtsspektakel
DESCRIPTION:„Früher war mehr Lametta…“ Wer kennt das nicht\, wenn di
 e Mutter schimpft\, weil der Vater beim Schmücken für jede Kugel einen K
 orn trinkt? Oder wenn sich ums Essen am Hl. Abend gestritten wird. Eine am
 üsante einzigartige Stadtführung mit dem kölschen Paar "De Schmitzens".
 \n\nKosten: Euro 15\,00 zzgl. Getränke und "Naschereien"\n\nAnmeldung erf
 olrderlich!\nservice@tour-agentur.de\n0221 93 272 63\n\nErlebnistouren Kö
 ln &amp\; Region - Tour-Agentur\n\n
END:VEVENT
BEGIN:VTIMEZONE
TZID:Europe/Berlin
X-LIC-LOCATION:Europe/Berlin
BEGIN:STANDARD
DTSTART:20191027T020000
TZOFFSETFROM:+0200
TZOFFSETTO:+0100
TZNAME:CET
END:STANDARD
END:VTIMEZONE
END:VCALENDAR