BEGIN:VCALENDAR
VERSION:2.0
PRODID:-//wp-events-plugin.com//7.2.3.1//EN
TZID:Europe/Berlin
X-WR-TIMEZONE:Europe/Berlin
BEGIN:VEVENT
UID:6132@frauenportal.koeln
DTSTART;TZID=Europe/Berlin:20260326T190000
DTEND;TZID=Europe/Berlin:20260326T213000
DTSTAMP:20260305T183036Z
URL:https://frauenportal.koeln/veranstaltungen/demokratie-aktiv-mitgestalt
 en-einblicke-in-die-ehrenamtliche-rechtsprechung/
SUMMARY:Demokratie aktiv mitgestalten – Einblicke in die ehrenamtliche Re
 chtsprechung
DESCRIPTION:Die Business and Professional Women (BPW) setzen sich für die 
 Stärkung von Frauen in Führung\, Wirtschaft und Gesellschaft ein. Demokr
 atisches Engagement und gesellschaftliche Verantwortung sind zentrale Wert
 e der Community. Bei dieser Veranstaltung geht es um eine besondere Form d
 es zivilgesellschaftlichen Engagements: das Ehrenamt als Schöffin.\n\nUns
 er Kooperationspartner\, der DVS - Landesverband Nordrhein-Westfalen e.V.\
 , vertritt die Interessen der Schöffinnen und Schöffen in Nordrhein-West
 falen\, Rheinland-Pfalz und dem Saarland. Wissen und Austausch sind die wi
 chtigsten Säulen eines zivilgesellschaftlichen Engagements. Zusammen mit 
 seinen Kooperationspartnern konzipiert der DVS Wochenendseminare und Bildu
 ngsurlaube. Für seine Mitglieder organisiert er Besuche zu Institutionen 
 der Justiz\, zu Landtagen und in Justizvollzugsanstalten. Der Verband ist 
 im Gespräch mit politischen Vertretern und die Politik sucht das Gespräc
 h mit ihm. \n\nEs sprechen:\n\n	Andreas Gebauer\, Köln. \nEr ist seit vie
 len Jahren ehrenamtlicher Richter am Arbeitsgericht und Finanzgericht. Sei
 t 2024 ist er Ersatzschöffe am Amtsgericht Köln.\n\n	Didem Adib\, Leverk
 usen.\nSie war fünf Jahre ehrenamtliche Richterin am Verwaltungsgericht K
 öln und ist seit 2024 Jugendschöffin am Landgericht Köln.\n\n	Dagmar Be
 cker-Schmidt\, Bonn.\nSie war fünf Jahre Erwachsenenschöffin am Amtsgeri
 cht Bonn und ist sein 2024 Erwachsenenschöffin am Landgericht Bonn.\n\n\n
 Es verspricht\, ein inspirierender Abend zu werden\, der zeigt\, wie vielf
 ältig gesellschaftliches Engagement ist und wie bereichernd es für die p
 ersönliche und berufliche Entwicklung sein kann.\n\nVeranstalterinnen:\nB
 PW Germany Club Köln in Kooperation mit der Deutsche Vereinigung der Sch
 öffinnen und Schöffen. Bund ehrenamtlicher Richterinnen und Richter. Lan
 desverband Nordrhein-Westfalen e.V.\, www.schoeffen-nrw.de\n\nAnsprechpart
 nerin:\nNyelete S. Gonçalves Chilenge\, E-Mail: bpw-koeln@web.de\n\nKoste
 n / Anmeldung:\nMitglieder frei\, Interessentinnen 19\,90 Euro.\nTickets: 
 www.eventbrite.de/e/demokratie-aktiv-mitgestalten-tickets-1982998592170
LOCATION:Startplatz Köln\, Im Mediapark 5\, 50670 Köln
GEO:50.94857939;6.94487198
X-APPLE-STRUCTURED-LOCATION;VALUE=URI;X-ADDRESS=Im Mediapark 5\, Köln\, 50
 670\, Veranstaltungsort\, Deutschland;X-APPLE-RADIUS=100;X-TITLE=Startplat
 z Köln:geo:50.94857939,6.94487198
END:VEVENT
BEGIN:VTIMEZONE
TZID:Europe/Berlin
X-LIC-LOCATION:Europe/Berlin
BEGIN:STANDARD
DTSTART:20251026T020000
TZOFFSETFROM:+0200
TZOFFSETTO:+0100
TZNAME:CET
END:STANDARD
END:VTIMEZONE
END:VCALENDAR