BEGIN:VCALENDAR
VERSION:2.0
PRODID:-//wp-events-plugin.com//7.2.3.1//EN
TZID:Europe/Berlin
X-WR-TIMEZONE:Europe/Berlin
BEGIN:VEVENT
UID:2102@frauenportal.koeln
DTSTART;TZID=Europe/Berlin:20190928T160000
DTEND;TZID=Europe/Berlin:20190928T190000
DTSTAMP:20190917T101008Z
URL:https://frauenportal.koeln/veranstaltungen/demonstration-my-body-my-ch
 oice/
SUMMARY:Demonstration My Body\, my Choice!
DESCRIPTION:Aus der Ankündigung:\n\n"Für den 28.9. bereiten wir ab 16:00 
 eine Demonstration vom Bahnhofsvorplatz (Köln Hbf) zum Heumarkt vor. Die 
 Auftaktkundgebung wird in Form eines Flashmobs stattfinden. Hier soll es v
 erschiedene Statements von FLINT* -Personen geben.\nBei der Abschlusskundg
 ebung wird es Redebeiträge von verschiedenen FLINT* - Gruppen und Einzelp
 ersonen geben.\nWir würden uns sehr freuen\, wenn auch ihr euch beteiligt
 . Nur so wird es möglich die vielfältigen Kämpfe zu zeigen. Wenn ihr ei
 nen Beitrag halten möchtet oder euch an dem Flashmob beteiligen möchtet\
 , seid ihr herzlich eingeladen.\nSchreibt uns auch gerne eine Mail\, wenn 
 ihr noch Ideen und Anregungen habt und wenn ihr einen Beitrag halten wollt
 . Dann können wir uns inhaltlich besser absprechen…\n\nLasst uns gemein
 sam einen Teil zur Entstigmatisierung beitragen und das Unsichtbare sichtb
 ar machen. Es darf nicht mehr heimlich passieren.\n\nLadet ein und kommt z
 ahlreich! Jede FLINT* - Person ist willkommen!\n\nAnschließend\, ab ca 20
  Uhr\, wollen wir gemeinsam in Kalk einen Filmabend veranstalten. Dort wir
 d es leckeres Essen geben\, wir wollen zusammen diskutieren und den Abend 
 ausklingen lassen.\nDer Abend ist dann offen für alle Geschlechter! Wir t
 reffen uns in der Kalk Mülheimer Straße 124.\n\nUnser Nächstes Bündnis
 - und Basteltreffen für die letzten Vorbereitungen ist am 21.09. um 10 Uh
 r im Multikulturverein in der Frankfurterstr. 124.\nNeben dem Diskutieren 
 und Basteln wollen wir gemeinsam Frühstücken / Brunchen :)\n\nFür eine 
 Entkriminalisierung von Schwangerschaftsabbrüchen!!!"\n\nZur Facebook-Ver
 anstaltung: www.facebook.com/events/390637881832541/\n\n[FLINT* steht für
  Frauen\, Lesben\, intergeschlechtliche Personen\, nicht-binäre Geschlech
 ter und Trans-Personen.]\n\n&nbsp\;\nVeranstalterinnen:\n„My Body\, My C
 hoice!“ - Bündnis in Köln\, www.sexuelle-selbstbestimmung.de\n\nAnspre
 chpartnerin:\nE-Mail: frauenkollektiv_koeln@web.de\n\nVeranstaltungsort:\n
 Start 16.00 Uhr Bahnhofsvorplatz\, Köln\, [map id=1068]
END:VEVENT
BEGIN:VTIMEZONE
TZID:Europe/Berlin
X-LIC-LOCATION:Europe/Berlin
BEGIN:DAYLIGHT
DTSTART:20190331T030000
TZOFFSETFROM:+0100
TZOFFSETTO:+0200
TZNAME:CEST
END:DAYLIGHT
END:VTIMEZONE
END:VCALENDAR