BEGIN:VCALENDAR
VERSION:2.0
PRODID:-//wp-events-plugin.com//7.2.3.1//EN
TZID:Europe/Berlin
X-WR-TIMEZONE:Europe/Berlin
BEGIN:VEVENT
UID:6164@frauenportal.koeln
DTSTART;TZID=Europe/Berlin:20260328T130000
DTEND;TZID=Europe/Berlin:20260328T150000
DTSTAMP:20260326T093633Z
URL:https://frauenportal.koeln/veranstaltungen/demonstration-sexuelle-und-
 digitale-gewalt-stoppen/
SUMMARY:Demonstration: Sexuelle und digitale Gewalt stoppen!
DESCRIPTION:Start: Rudolfplatz\nZiel: Hans-Böckler-Platz\n\nAus dem Aufruf
 :\n\n"Die Erfahrungen von Collien Fernandes macht einmal mehr deutlich\, w
 as wir längst wissen: Der Schutz für Betroffene s*xualisierter G3walt is
 t in Deutschland unzureichend. Keine klaren Gesetze. Keine echten Konseque
 nzen. Online wie offline.\nDas reicht nicht. Und wir schweigen nicht läng
 er.\n\nLasst uns auf die Straßen gehen : für Solidarität\, Gerechtigkei
 t und echten Schutz."\n\nVeranstaltende u.a.:\nwidersetzen Ortsgruppe Köl
 n\, www.widersetzen.com\nFeminist Law Clinic\, www.feministlawclinic.de\n\
 nAnsprechpartnerin:\nLuisa Esser\, E-Mail: info@feministlawclinic.de
LOCATION:Rudolfplatz\, \, 50674 Köln
GEO:50.93656421;6.93961115
X-APPLE-STRUCTURED-LOCATION;VALUE=URI;X-ADDRESS=Köln\, 50674\, Veranstaltu
 ngsort\, Deutschland;X-APPLE-RADIUS=100;X-TITLE=Rudolfplatz:geo:50.9365642
 1,6.93961115
END:VEVENT
BEGIN:VTIMEZONE
TZID:Europe/Berlin
X-LIC-LOCATION:Europe/Berlin
BEGIN:STANDARD
DTSTART:20251026T020000
TZOFFSETFROM:+0200
TZOFFSETTO:+0100
TZNAME:CET
END:STANDARD
END:VTIMEZONE
END:VCALENDAR