BEGIN:VCALENDAR
VERSION:2.0
PRODID:-//wp-events-plugin.com//7.2.3.1//EN
TZID:Europe/Berlin
X-WR-TIMEZONE:Europe/Berlin
BEGIN:VEVENT
UID:5667@frauenportal.koeln
DTSTART;TZID=Europe/Berlin:20250521T190000
DTEND;TZID=Europe/Berlin:20250521T210000
DTSTAMP:20250430T142426Z
URL:https://frauenportal.koeln/veranstaltungen/den-richtigen-partner-finde
 n-mit-4d-typologie-nlp-info-workshop-2/
SUMMARY:Den richtigen Partner finden mit 4D-Typologie – NLP-Info-Workshop
DESCRIPTION:Jenison Thomkins zu ihrem Angebot:\n\n"Bei der Partnerwahl habe
 n wir oft ein falsches „Beuteschema“.\n\nUnd je öfter wir uns wieder 
 trennen und enttäuscht sind\, desto kritischer werden wir gegenüber eine
 m neuen.\n\nLass Dich überraschen\, welche völlig neue\, glasklare Persp
 ektive das 4D-Typologie-Modell für Dich auf deiner Suche auf deinem ideal
 en Partner bietet und sie revolutionär verändern wird!\n\nHier kommen di
 e 4 Energiemuster ins Spiel\, eine geniale Erfindung der österreichischen
  NLP-Grand-Dame\, Gundl Kutschera\, die Jenison seit 2008 kontinuierlich a
 ls „4D-Typologie“ – Modell weiterentwickelt hat."\n\nHier geht es zu
 m kostenlosen Ticket: https://www.eventbrite.de/e/den-richtigen-partner-fi
 nden-mit-4d-typologie-kostenloser-info-workshop-tickets-1095139865819
END:VEVENT
BEGIN:VTIMEZONE
TZID:Europe/Berlin
X-LIC-LOCATION:Europe/Berlin
BEGIN:DAYLIGHT
DTSTART:20250330T030000
TZOFFSETFROM:+0100
TZOFFSETTO:+0200
TZNAME:CEST
END:DAYLIGHT
END:VTIMEZONE
END:VCALENDAR