BEGIN:VCALENDAR
VERSION:2.0
PRODID:-//wp-events-plugin.com//7.2.3.1//EN
TZID:Europe/Berlin
X-WR-TIMEZONE:Europe/Berlin
BEGIN:VEVENT
UID:5568@frauenportal.koeln
DTSTART;TZID=Europe/Berlin:20250320T180000
DTEND;TZID=Europe/Berlin:20250320T200000
DTSTAMP:20250228T113349Z
URL:https://frauenportal.koeln/veranstaltungen/der-15-knoten/
SUMMARY:„Der 15. Knoten“
DESCRIPTION:Interessierte Frauen treffen sich zweimal jährlich zu Austausc
 h und Information. Es besteht die Idee\, in 2025 ein gemeinsames Projekt a
 uf die Beine zu stellen und das Programm zu planen. Gruppenleiterinnen\, P
 farrerinnen und andere Interessierte sind herzlich willkommen!\n\nVeransta
 lterinnen:\nEv. Frauenreferat Kirchenkreis Köln-Rechtsrheinisch\n\nAnspre
 chpartnerin:\nUte Verch\, Tel. 0221 / 27 85 61-93\, E-Mail: ute.verch@ekir
 .de\n\nVeranstaltungort:\nWird noch bekannt gegeben.
END:VEVENT
BEGIN:VTIMEZONE
TZID:Europe/Berlin
X-LIC-LOCATION:Europe/Berlin
BEGIN:STANDARD
DTSTART:20241027T020000
TZOFFSETFROM:+0200
TZOFFSETTO:+0100
TZNAME:CET
END:STANDARD
END:VTIMEZONE
END:VCALENDAR