BEGIN:VCALENDAR
VERSION:2.0
PRODID:-//wp-events-plugin.com//7.2.3.1//EN
TZID:Europe/Berlin
X-WR-TIMEZONE:Europe/Berlin
BEGIN:VEVENT
UID:2048@frauenportal.koeln
DTSTART;TZID=Europe/Berlin:20190825T150000
DTEND;TZID=Europe/Berlin:20190825T200000
DTSTAMP:20190823T082929Z
URL:https://frauenportal.koeln/veranstaltungen/der-frauenmedia-turm-25-jah
 re-im-bayenturm/
SUMMARY:Der FrauenMedia Turm 25 Jahre im Bayenturm
DESCRIPTION:Am 26.08.1994 bezog das Archiv den mittelalterlichen Wehrturm\,
  der im 2. Weltkrieg stark zerstört und Anfang der 1990er Jahre wieder au
 fgebaut wurde. Ab da nannte sich „Das feministische Archiv und Dokumenta
 tionszentrum“ um in: FrauenMediaTurm (FMT). Die Stiftung baute den mitte
 lalterlichen Bayenturm zu einem modernen Informationszentrum über Frauen 
 aus. Er steht heute mitten im modernen Rheinauhafen. \n\nKölnerInnen wie 
 Immis\, Frauen wie Männer\, Erwachsene wie Kinder sind eingeladen\, mit z
 u feiern! \n\nHier geht es zum Programm auf der Website des Feministischen
  Archivs.\n\nVeranstalterin:\nFrauenMediaTurm\n\nAnsprechpartnerin:\nJasmi
 n Schenk\, Tel.: 0221/931 881-0 (10-17 Uhr)\, E-Mail: info@frauenmediaturm
 .de\n&nbsp\;\nKosten / Anmeldung:\nEintritt frei.\n\nVeranstaltungsort:\nF
 rauenMediaTurm\, Am Bayenturm 2\, 50678 Köln\, 50678 Köln\, [map id=980]
END:VEVENT
BEGIN:VTIMEZONE
TZID:Europe/Berlin
X-LIC-LOCATION:Europe/Berlin
BEGIN:DAYLIGHT
DTSTART:20190331T030000
TZOFFSETFROM:+0100
TZOFFSETTO:+0200
TZNAME:CEST
END:DAYLIGHT
END:VTIMEZONE
END:VCALENDAR