BEGIN:VCALENDAR
VERSION:2.0
PRODID:-//wp-events-plugin.com//7.2.3.1//EN
TZID:Europe/Berlin
X-WR-TIMEZONE:Europe/Berlin
BEGIN:VEVENT
UID:2415@frauenportal.koeln
DTSTART;TZID=Europe/Berlin:20191118T150000
DTEND;TZID=Europe/Berlin:20191118T173000
DTSTAMP:20191030T182615Z
URL:https://frauenportal.koeln/veranstaltungen/dib-ankunft-und-aufenthalt-
 in-deutschland-regularien-und-gesetzgebungen/
SUMMARY:dib:  Ankunft und Aufenthalt in Deutschland\, Regularien und  Geset
 zgebungen
DESCRIPTION:in Zusammenarbeit mit Jura-Studierenden der Heinrich Heine Univ
 ersität Düsseldorf\n\nVeranstalterin:\nDeutscher ingenieurinnenbund (dib
  e. V.)\, AG MINT Flucht/Migration Frauen/Mädchen (MINT FM FM)\, www.dibe
 v.de/mint_fm-fm.html\n\nAnsprechpartnerin:\nAfsar Soheila Sattari\, Tel.: 
 0178 / 6357200\, E-Mail: mint.fmfm@dibev.de\n\nKosten / Anmeldung:\nDie Ve
 ranstaltung ist kostenfrei.\n\nVeranstaltungsort:\nInterkulturelles Zentru
 m Buchheim\, Frankfurterstr. 102-104\, 51065 Köln\, [map id=15108] 
END:VEVENT
BEGIN:VTIMEZONE
TZID:Europe/Berlin
X-LIC-LOCATION:Europe/Berlin
BEGIN:STANDARD
DTSTART:20191027T020000
TZOFFSETFROM:+0200
TZOFFSETTO:+0100
TZNAME:CET
END:STANDARD
END:VTIMEZONE
END:VCALENDAR