BEGIN:VCALENDAR
VERSION:2.0
PRODID:-//wp-events-plugin.com//7.2.3.1//EN
TZID:Europe/Berlin
X-WR-TIMEZONE:Europe/Berlin
BEGIN:VEVENT
UID:2404@frauenportal.koeln
DTSTART;TZID=Europe/Berlin;VALUE=DATE:20191102
DTEND;TZID=Europe/Berlin;VALUE=DATE:20191103
DTSTAMP:20191030T175605Z
URL:https://frauenportal.koeln/veranstaltungen/dib-computer-foto-und-malku
 rse/
SUMMARY:dib:  Computer-\, Foto- und Malkurse
DESCRIPTION:Kurs: "Wollten Sie immer ein Weblog haben und es mit schönen T
 exten befüllen? Wir bringen es Ihnen technisch und literarisch bei."\nWan
 n: samstags von 14:30 - 16:00\, im Okt. bis 29.11.2019\nWo: Wilhelmstr. 12
  - 51143 Köln (Porz Markt)\, Projektbüro von MINT FM-FM\nAnmeldung unter
 : 0178-6357200 oder mint.fmfm@dibev.de\n\nKurs: "Wir lernen Fotografieren.
  Einstiegskurs für geflüchtete Frauen und Migrantinnen"\nWann: mittwochs
  von 16:30 - 18:00\, im Okt. bis 15.11.2019 \nWo: Interkulturelles Zentrum
  Buchheim\, Frankfurterstr. 102-104 - 51065 Köln-Buchheim\nAnmeldung unte
 r: 0178-6357200 oder mint.fmfm@dibev.de\n\nKurs: "Moderne Malerei"\, \nWan
 n: donnerstags von 13:00 - 14:30\, im Okt. bis Ende des Jahres\nWo: Pro Hu
 mantitate e. V.\, Rosenzweigweg 2-4 - 51143 Köln-Zündorf\nAnmeldung unte
 r: 0178-6357200 oder mint.fmfm@dibev.de\n\n"Vernissage\, Abschlussfeier un
 d Weihnachtsfeier" von den \nFotografie- und Weblog-Literaturkursen\, Keyn
 ote Speaker\, Musik\, DJ\, \nam: Freitag den 29.11.2019\, im: Jugendzentru
 m Glashütte\, Glashüttenstr. 20\, \n51143 Köln (Porz Markt). Die Verans
 taltung ist kostenlos.\n\nVeranstalterin:\nDeutscher ingenieurinnenbund (d
 ib e. V.)\, AG MINT Flucht/Migration Frauen/Mädchen (MINT FM FM)\, www.di
 bev.de/mint_fm-fm.html\n\nAnsprechpartnerin / Anmeldung:\nAfsar Soheila Sa
 ttari\, Tel.: 0178 / 6357200\, E-Mail: mint.fmfm@dibev.de
END:VEVENT
BEGIN:VTIMEZONE
TZID:Europe/Berlin
X-LIC-LOCATION:Europe/Berlin
BEGIN:STANDARD
DTSTART:20191027T020000
TZOFFSETFROM:+0200
TZOFFSETTO:+0100
TZNAME:CET
END:STANDARD
END:VTIMEZONE
END:VCALENDAR