BEGIN:VCALENDAR
VERSION:2.0
PRODID:-//wp-events-plugin.com//7.2.3.1//EN
TZID:Europe/Berlin
X-WR-TIMEZONE:Europe/Berlin
BEGIN:VEVENT
UID:3960@frauenportal.koeln
DTSTART;TZID=Europe/Berlin:20230201T190000
DTEND;TZID=Europe/Berlin:20230201T203000
DTSTAMP:20221130T105558Z
URL:https://frauenportal.koeln/veranstaltungen/die-erfindung-der-hausfrau/
SUMMARY:Die Erfindung der Hausfrau
DESCRIPTION:Buchvorstellung und Gespräch mit Evke Rulffes.\n\nAuch heute i
 st es häufig so\, dass spätestens mit der Geburt von Kindern Frauen die 
 Hauptverantwortung und Hauptlast in Erziehung und Haushalt übernehmen. In
  ihrem Buch „Die Erfindung der Hausfrau – Geschichte einer Entwertung
 “ beschreibt die Kulturwissenschaftlerin Evke Rulffes\, wie das Rollenbi
 ld der Hausfrau im 19. Jahrhundert erstarkte und bis heute wirkt. Sie gibt
  an diesem Abend Einblicke in ihre Forschungen und Erkenntnisse und berich
 tet von den Erfahrungen\, die sie mit der Veröffentlichung des Buches mac
 hte. Auch wird es Zeit und Gelegenheit für Fragen an die Autorin geben. \
 n\nDurch den Abend führt die Moderatorin Claudia Barbonus.\n\nReferentin:
 \nEvke Rulffes\, www.evkerulffes.de\n\nVeranstalterin:\nKatholische Frauen
 gemeinschaft Deutschlands (kfd) Diözesanverband Köln e.V.\nin Kooperatio
 n mit dem Kölner Frauengeschichtsverein e.V.\n\nAnsprechpartnerin:\nDr. M
 aria Bebber\, Tel.: 0221 / 1642-1557\, E-Mail: m.bebber@kfd-koeln.de\n\nKo
 sten / Anmeldung:\nTeilnahmegebühr: 7 Euro. Anmeldung unter www.kfd-koeln
 .de/termine/veranstaltung/Die-Erfindung-der-Hausfrau-2023.02.01/ \n\nVeran
 staltungsort:\nOnline via Zoom
END:VEVENT
BEGIN:VTIMEZONE
TZID:Europe/Berlin
X-LIC-LOCATION:Europe/Berlin
BEGIN:STANDARD
DTSTART:20221030T020000
TZOFFSETFROM:+0200
TZOFFSETTO:+0100
TZNAME:CET
END:STANDARD
END:VTIMEZONE
END:VCALENDAR