BEGIN:VCALENDAR
VERSION:2.0
PRODID:-//wp-events-plugin.com//7.2.3.1//EN
TZID:Europe/Berlin
X-WR-TIMEZONE:Europe/Berlin
BEGIN:VEVENT
UID:2866@frauenportal.koeln
DTSTART;TZID=Europe/Berlin:20201027T190000
DTEND;TZID=Europe/Berlin:20201027T203000
DTSTAMP:20200930T130508Z
URL:https://frauenportal.koeln/veranstaltungen/die-frauen-um-karl-marx-4/
SUMMARY:Die Frauen um Karl Marx
DESCRIPTION:Jenny v. Westphalen hatte als Partnerin\, politische Gefährtin
  und „Geschäftsführerin“ entscheidenden Anteil am geistigen Vermäch
 tnis ihres Mannes. Helene Demuth sorgte für das (Über-)Leben der Familie
 . Die Töchter Jenny\, Laura und Eleanor traten in die Fußstapfen ihrer E
 ltern und lebten mit Männern der sozialistischen Bewegung. Nur die Jüngs
 te öffnete sich der „Frauenfrage“\, die ihre Mutter nicht sehen konnt
 e. \n\nEin Vortrag von Ina Hoerner-Theodor.\n\nVeranstalterin:\nKölner Fr
 auengeschichtsverein e.V. in Kooperation mit der VHS Köln\, www.vhs-koeln
 .de\n\nKontakt:\nTel.: 0221 / 24 82 65\, E-Mail: info@frauengeschichtsvere
 in.de\n\nKosten / Anmeldung:\nCoronabedingt ist die Platzzahl begrenzt\, A
 nmeldung erforderlich unter vhs-gesellschaft@stadt-koeln.de\nKostenbeitrag
 : 5 Euro\n\nVeranstaltungsort:\nVHS Studienhaus\, Cäcilienstr. 35\, 50667
  Köln\, [map id=11810]
END:VEVENT
BEGIN:VTIMEZONE
TZID:Europe/Berlin
X-LIC-LOCATION:Europe/Berlin
BEGIN:STANDARD
DTSTART:20201025T020000
TZOFFSETFROM:+0200
TZOFFSETTO:+0100
TZNAME:CET
END:STANDARD
END:VTIMEZONE
END:VCALENDAR