BEGIN:VCALENDAR
VERSION:2.0
PRODID:-//wp-events-plugin.com//7.2.3.1//EN
TZID:Europe/Berlin
X-WR-TIMEZONE:Europe/Berlin
BEGIN:VEVENT
UID:6181@frauenportal.koeln
DTSTART;TZID=Europe/Berlin:20260424T183000
DTEND;TZID=Europe/Berlin:20260424T203000
DTSTAMP:20260331T130752Z
URL:https://frauenportal.koeln/veranstaltungen/die-ignorierten-frauen-der-
 bibel-lesung-und-gespraech-mit-annette-jantzen/
SUMMARY:Die ignorierten Frauen der Bibel - Lesung und Gespräch mit Annette
  Jantzen
DESCRIPTION:Annette Jantzen liest aus ihrem neuen Buch\, das am 16. Februar
  erschienen ist. \nIm Anschluss gibt es Raum für Fragen und Gespräch. \n
 \nSie richtet den Blick auf die vielen Frauenfiguren der Bibel\, deren Ges
 chichten im katholischen Gottesdienst kaum oder gar nicht vorkommen. Sie z
 eigt\, wie die kirchliche Leseordnung weibliche Perspektiven ausblendet\, 
 und rückt diese vergessenen Frauen in den Mittelpunkt – für ein vielf
 ältigeres Bild weiblicher Identifikationsfiguren im Glauben.\n\nReferenti
 n:\nDr. Annette Jantzen\, theologie.annette-jantzen.de\n\nVeranstalterinne
 n:\nKatholische Frauengemeinschaft Deutschlands (kfd) Diözesanverband K
 öln\nKatholischer Deutscher Frauenbund (KDFB) Diözesanverband Köln\nMar
 ia 2.0 Rheinland\, mariazweipunktnull-rheinland.de\n\nAnsprechpartnerin:\n
 Andrea Monschau\, Tel.: 0221 / 1642-1545\, E-Mail: info@kfd-koeln.de \n\nK
 osten / Anmeldung:\nEintritt frei. Um Anmeldung wird gebeten unter: www.kf
 d-koeln.de/termine/veranstaltung/Die-ignorierten-Frauen-der-Bibel-Lesung-u
 nd-Gespraech-mit-Annette-Jantzen-2026.04.24/
LOCATION:St. Theodor\, Burgstr. 42\, 51103 Köln
GEO:50.934832;7.02323
X-APPLE-STRUCTURED-LOCATION;VALUE=URI;X-ADDRESS=Burgstr. 42\, Köln\, 51103
 \, Veranstaltungsort\, Deutschland;X-APPLE-RADIUS=100;X-TITLE=St. Theodor:
 geo:50.934832,7.02323
END:VEVENT
BEGIN:VTIMEZONE
TZID:Europe/Berlin
X-LIC-LOCATION:Europe/Berlin
BEGIN:DAYLIGHT
DTSTART:20260329T030000
TZOFFSETFROM:+0100
TZOFFSETTO:+0200
TZNAME:CEST
END:DAYLIGHT
END:VTIMEZONE
END:VCALENDAR