BEGIN:VCALENDAR
VERSION:2.0
PRODID:-//wp-events-plugin.com//7.2.3.1//EN
TZID:Europe/Berlin
X-WR-TIMEZONE:Europe/Berlin
BEGIN:VEVENT
UID:897@frauenportal.koeln
DTSTART;TZID=Europe/Berlin:20181014T180000
DTEND;TZID=Europe/Berlin:20181014T193000
DTSTAMP:20210228T084348Z
URL:https://frauenportal.koeln/veranstaltungen/die-schwiegermutter-des-pet
 rus/
SUMMARY:Die Schwiegermutter des Petrus
DESCRIPTION:Wer die Schwiegermutter des Petrus noch nicht kennt\, hat Geleg
 enheit\, ihr in diesem Zeit-für-Dich–Frauengottesdienst zu begegnen. He
 ilt Jesus sie tatsächlich nur deshalb vom schweren Fieber\, damit sie ihr
 e Frauenpflicht tun kann? Oder steckt mehr dahinter?\n\nDer Abendmahlsgott
 esdienst wird geleitet von Prädikantin Karin-D. Witthöft. Im Anschluss w
 ird eingeladen\, bei Getränken\, Brot und Trauben ins Gespräch zu kommen
 . \n\nAuch Kirchenneulinge und Neugierige sind herzlich willkommen\; alle 
 Texte\, Lieder und Gebete werden gestellt. Die Frauengottesdienst-Reihe "Z
 eit für Dich" bietet regelmäßig allen Frauen der Region am Sonntagabend
  eine ganz persönliche Auszeit.\n\nVeranstalterin:\nZeit für dich – Go
 ttesdienste von Frauen für Frauen\, \nein Angebot der ev. Kirchengemeinde
  Buchheim-Buchforst\, www.ekibubu.de\n\nAnsprechpartnerin:\nA. Mehren\, E-
 Mail: frauengottesdienst@kirche-koeln.de\nTel.: 0221 / 691888\, Ev. Gemei
 ndebüro Buchheim-Buchforst\n\nVeranstaltungsort:\nAuferstehungskirche in 
 Buchforst\, Kopernikusstr. 34\, 51065 Köln\, [map id=1027]
END:VEVENT
BEGIN:VTIMEZONE
TZID:Europe/Berlin
X-LIC-LOCATION:Europe/Berlin
BEGIN:DAYLIGHT
DTSTART:20180325T030000
TZOFFSETFROM:+0100
TZOFFSETTO:+0200
TZNAME:CEST
END:DAYLIGHT
END:VTIMEZONE
END:VCALENDAR