BEGIN:VCALENDAR
VERSION:2.0
PRODID:-//wp-events-plugin.com//7.2.3.1//EN
TZID:Europe/Berlin
X-WR-TIMEZONE:Europe/Berlin
BEGIN:VEVENT
UID:5243@frauenportal.koeln
DTSTART;TZID=Europe/Berlin:20241103T113000
DTEND;TZID=Europe/Berlin:20241103T140000
DTSTAMP:20241031T173640Z
URL:https://frauenportal.koeln/veranstaltungen/die-stille-ertasten-mit-dem
 -wort-4/
SUMMARY:„Die Stille ertasten mit dem Wort“
DESCRIPTION:Renate Fuhrmann liest Gedichte auf dem Melatenfriedhof\n\nAuf d
 em Rundgang über den berühmten Friedhof rezitiert die Kölner Schauspiel
 erin Renate Fuhrmann Gedichte von bekannten und weniger bekannten Lyrikeri
 nnen. Die Historikerin Irene Franken informiert über das Leben und einige
  Werke der Poetinnen und ggf. über die Lebensläufe der Bestatteten. Die 
 ausgewählten Texte artkulieren in verschiedenen Ausdrucksformen die Theme
 n Trauer\, Verlust und Sterben\, drü­cken aber auch Hoffnung oder gar Hu
 mor gegenüber dem Tod aus. Es sind Werke von Kölnerinnen wie von interna
 tional anerkannten ‚großen‘ Dichterinnen. Die Zuhörenden lernen Gedi
 chte von Rose Ausländer\, Christa Reinig\, Emilie Emma von Hallberg\, Ann
 ette von Droste-Hülshoff\, Claire Goll\, Minna Bachem-Sieger\, Dorothee S
 ölle oder auch Nelly Sachs kennen.\n\nVeranstalterin:\nKölner Frauengesc
 hichtsverein e.V.\n\nKontakt:\nTel.: 0221 / 24 82 65\, E-Mail: info@frauen
 geschichtsverein.de\n\nKosten / Anmeldung:\nKostenbeitrag: 15 Euro
LOCATION:Haupteingang Friedhof Melaten\, Aachener Str. 249\, 50931 Köln
GEO:50.93680986;6.91889763
X-APPLE-STRUCTURED-LOCATION;VALUE=URI;X-ADDRESS=Aachener Str. 249\, Köln\,
  50931\, Veranstaltungsort\, Deutschland;X-APPLE-RADIUS=100;X-TITLE=Haupte
 ingang Friedhof Melaten:geo:50.93680986,6.91889763
END:VEVENT
BEGIN:VTIMEZONE
TZID:Europe/Berlin
X-LIC-LOCATION:Europe/Berlin
BEGIN:STANDARD
DTSTART:20241027T020000
TZOFFSETFROM:+0200
TZOFFSETTO:+0100
TZNAME:CET
END:STANDARD
END:VTIMEZONE
END:VCALENDAR