BEGIN:VCALENDAR
VERSION:2.0
PRODID:-//wp-events-plugin.com//7.2.3.1//EN
TZID:Europe/Berlin
X-WR-TIMEZONE:Europe/Berlin
BEGIN:VEVENT
UID:572@frauenportal.koeln
DTSTART;TZID=Europe/Berlin:20171030T110000
DTEND;TZID=Europe/Berlin:20171030T120000
DTSTAMP:20260126T162153Z
URL:https://frauenportal.koeln/veranstaltungen/die-wuerde-von-frauen-und-m
 aedchen-ist-unantastbar-in-koeln-und-ueberall/
SUMMARY:Die Würde von Frauen und Mädchen ist unantastbar. In Köln und ü
 berall.
DESCRIPTION:Gemeinsam Stellung beziehen gegen Alltagssexismus und Gewalt ge
 gen Frauen und Mädchen!\n\nOb #aufschrei seit 2013 oder #metoo in diesem 
 Jahr\, die Debatte um den alltäglichen Sexismus wird geführt und schläg
 t hohe Wogen.\n\nDie Kölner Initiative gegen sexualisierte Gewalt nimmt e
 in weiteres Mal mit ihrem Plakat „Die Würde von Frauen und Mädchen ist
  unantastbar. In Köln und überall.“ dazu Stellung.\n\nGemeinsam mit Sc
 hirmherrin Sonja Fuss\, Ex-Nationalspielerin und zweifacher Fußballweltme
 isterin\, wird das Plakat auf einer Großfläche an der KVB Straßenbahnha
 ltestelle Ubierring präsentiert. Außerdem wird die CityCard mit dem Plak
 atmotiv vorgestellt:\nCitycard: Die Würde von Frauen und Mädchen ist una
 ntastbar (pdf-Datei\, 1 MB). \n\nFrauen und Männer\, die Stellung gegen S
 exismus beziehen wollen\, sind herzlich eingeladen!\n\nVeranstalterin:\nK
 ölner Initiative gegen Sexualisierte Gewalt\n\nAnsprechpartnerin:Frauke M
 ahr\, Tel.: 0221 / 45 35 56 51\, E-Mail: frauke-mahr@lobby-fuer-maedchen.d
 e\n\nVeranstaltungsort:\nKVB-Haltestelle Ubierring\, Ubierring 50678 Köln
 \, [map id=12001]
END:VEVENT
BEGIN:VTIMEZONE
TZID:Europe/Berlin
X-LIC-LOCATION:Europe/Berlin
BEGIN:STANDARD
DTSTART:20171029T020000
TZOFFSETFROM:+0200
TZOFFSETTO:+0100
TZNAME:CET
END:STANDARD
END:VTIMEZONE
END:VCALENDAR