BEGIN:VCALENDAR
VERSION:2.0
PRODID:-//wp-events-plugin.com//7.2.3.1//EN
TZID:Europe/Berlin
X-WR-TIMEZONE:Europe/Berlin
BEGIN:VEVENT
UID:4444@frauenportal.koeln
DTSTART;TZID=Europe/Berlin:20231120T150000
DTEND;TZID=Europe/Berlin:20231120T180000
DTSTAMP:20231120T175406Z
URL:https://frauenportal.koeln/veranstaltungen/digitalisierung-und-ki-schw
 ierige-zeiten-fuer-solo-selbststaendige/
SUMMARY:Digitalisierung und KI: Schwierige Zeiten für Solo-Selbstständige
 ?
DESCRIPTION:– Auftaktveranstaltung des Projektes "Haus der Selbstständig
 en (HDS)" –\n\nDigitalisierung und neue Technologien wie Künstliche Int
 elligenz (KI) verändern auch die Arbeit von Solo-Selbst&shy\;ständigen 
 – zum Guten wie zum Schlechten. Gemeinsam mit den Podiumsteilnehmenden u
 nd dem Publikum soll über Erfahrungen und Ideen im Umgang mit KI und Digi
 talisierung diskutiert werden. An die Politik stellt sich die Frage: Welch
 e Lösungen hält sie bereit\, um Solo-Selbständige in diesen Zeiten zu u
 nterstützen? Auf dem Podium:\n\n 	Marita Alami\, selbstständige Organisa
 tionsberaterin\, Konzept- und Web-Entwicklerin\n 	Jürgen Geuter\, Researc
 h Director bei den ART+COM Studios\, Berater\, Autor und Vortragender für
  Themen an den Schnittstellen von Technologie\, Gesellschaft und Politik\n
 Bettina Hesse\, Re­fe­ren­tin für Me­di­en­po­li­tik\, ver.di\n 	
 İlkiz Şentürk\, selbständig als systemischer Coach\, Trainerin (Dozent
 in) in der  Erwachsenenbildung und als psychologische Beraterin\n 	Oliver
  Stettes\, Leiter des Forschungsclusters Arbeitswelt und Tarifpolitik im I
 nstitut der deutschen Wirtschaft\, Schwerpunkt Auswirkungen des Einsatzes 
 von KI auf die Arbeitswelt\n\nModeration: \nKatharina Mosene\, Politikwiss
 enschaftlerin am Leibniz-Institut für Medienforschung\, Schwerpunkt Digit
 alisierung und Feminismus\n\nZu Beginn der Veranstaltung sprechen die Proj
 ektleiterin Haus der Selbstständigen (HDS)\, Gerlinde Vogl\, und der Proj
 ektleiter HDS NRW und stellvertretende ver.di-Landesbezirksleiter\, Frank 
 Bethke\, einleitende Worte. \n\nEinlass ab 14.30 Uhr\, Podiumsdiskussion 1
 5.30 bis 17 Uhr\, danach bis 18 Uhr lockerer Ausklang bei Getränken und F
 ingerfood.\n\nVeranstaltende:\nHaus der Selbstständigen\, Standort NRW / 
 Köln\, www.hausderselbststaendigen.info\n\nAnsprechpartnerinnen:\nKathy Z
 iegler und Merle Bode\, nrw-koeln@hausderselbststaendigen.info\n\nAnmeldun
 g:\nhttps://hausderselbststaendigen.info/blog/digitalisierung-und-ki-schwi
 erige-zeiten-fuer-solo-selbstaendige/\n\nVeranstaltungsort: \nBürgerzentr
 um Ehrenfeld\, Venloer Str. 429\, 50825 Köln\, großer Saal\, rollstuhlge
 rechter Zugang (Anfahrt: Bahnhof Ehrenfeld oder mit den Straßenbahnen 3\,
  4 und 13 bis Haltestelle Venloer Str. / Gürtel\, von da 5 Minuten Fußwe
 g)
END:VEVENT
BEGIN:VTIMEZONE
TZID:Europe/Berlin
X-LIC-LOCATION:Europe/Berlin
BEGIN:STANDARD
DTSTART:20231029T020000
TZOFFSETFROM:+0200
TZOFFSETTO:+0100
TZNAME:CET
END:STANDARD
END:VTIMEZONE
END:VCALENDAR