BEGIN:VCALENDAR
VERSION:2.0
PRODID:-//wp-events-plugin.com//7.2.3.1//EN
TZID:Europe/Berlin
X-WR-TIMEZONE:Europe/Berlin
BEGIN:VEVENT
UID:3345@frauenportal.koeln
DTSTART;TZID=Europe/Berlin:20210927T180000
DTEND;TZID=Europe/Berlin:20210927T193000
DTSTAMP:20211020T100718Z
URL:https://frauenportal.koeln/veranstaltungen/diversity-im-mittelstand-di
 e-perspektive-lesbischer-frauen/
SUMMARY:Diversity im Mittelstand: die Perspektive lesbischer Frauen*
DESCRIPTION:– Filmabend mit Podiumsdiskussion –\n\nWährend in großen 
 und multinationalen Unternehmen Diversity-Maßnahmen längst zum Alltag ge
 hören\, entdecken viele kleine und mittelständische Unternehmen (KMU) da
 s Thema gerade für sich. Insbesondere die Diversity-Dimension der sexuell
 en Orientierung und Identität\, und hier speziell die Perspektive lesbisc
 her Frauen\, sind häufig noch nicht im Fokus der Aufmerksamkeit angekomme
 n.\n\nDie Wirtschaftsweiber e.V. NRW wollen KMU an dieses Thema heranführ
 en\, den Nutzen von Diversity Management verdeutlichen und dabei vor allem
  die lesbische Perspektive begreifbar machen. Zu diesem Zweck haben sie im
  vergangenen Jahr drei Kurzfilme produziert\, die nun der Öffentlichkeit 
 vorgestellt werden. Das Projekt wurde vom Ministerium für Kinder\, Famili
 e\, Flüchtlinge und Integration des Landes Nordrhein-Westfalen gefördert
 . Trägerin ist die LAG Lesben in NRW.\n\nBei der Podiumsdiskussion dabei 
 sind:\n\n 	Dr. Pascal Belling\, Leiter des Referats „Politikfeld gleichg
 eschlechtliche Lebensweisen und geschlechtliche Vielfalt (LSBTIQ*)“ im M
 inisterium für Kinder\, Familie\, Flüchtlinge und Integration des Landes
  Nordrhein-Westfalen\n 	Andrea Fimian\, Inhaberin und Managing Director be
 i fipsconsulting\, Zürich\n 	Jasna Rezo-Flanze\, Leiterin Fachkräftesich
 erung im Geschäftsbereich Aus- und Weiterbildung der IHK Köln\n 	Maria T
 illessen\, Geschäftsführerin von Tillessen Architektur und eine Protagon
 istin der Filme\n\nAnnika Zawadzki\, Partnerin und Managing Director der B
 oston Consulting Group\, Büro Köln\, und Autorin der internationalen Stu
 die „Out@Work“ der BCG\n\nModeration: Ruth Lemmer\n\nHier ist die Einl
 adung: NRW_Diversity_Mittelstand 27.09.2021 (pdf-Datei\, 142 KB)\n\nVerans
 talterin:\nWirtschaftsweiber e.V. Regionalgruppe NRW\n\nAnsprechpartnerinn
 en:\nMaria Kunz und Dr. Silke Klaes\, E-Mail:\nnrw@wirtschaftsweiber.de\n\
 nAnmeldung:\nAnmeldung unter\nnrw@wirtschaftsweiber.de\n&nbsp\;\nVeranstal
 tungsort:\nThe New Yorker Hotel\, Deutz-Mülheimer Str. 204\, 51063 Köln\
 , [map id=16800]\nund per Live-Stream auf Youtube
END:VEVENT
BEGIN:VTIMEZONE
TZID:Europe/Berlin
X-LIC-LOCATION:Europe/Berlin
BEGIN:DAYLIGHT
DTSTART:20210328T030000
TZOFFSETFROM:+0100
TZOFFSETTO:+0200
TZNAME:CEST
END:DAYLIGHT
END:VTIMEZONE
END:VCALENDAR