BEGIN:VCALENDAR
VERSION:2.0
PRODID:-//wp-events-plugin.com//7.2.3.1//EN
TZID:Europe/Berlin
X-WR-TIMEZONE:Europe/Berlin
BEGIN:VEVENT
UID:5793@frauenportal.koeln
DTSTART;TZID=Europe/Berlin:20251028T193000
DTEND;TZID=Europe/Berlin:20251028T210000
DTSTAMP:20250930T125755Z
URL:https://frauenportal.koeln/veranstaltungen/dr-barbara-beuys-leben-und-
 werk/
SUMMARY:Dr. Barbara Beuys – Leben und Werk
DESCRIPTION:Die Veranstaltung würdigt Barbara Beuys (1943–2025)\, die al
 s Historikerin und Autorin mit ihrem umfangreichen Werk Geschichte lebendi
 g\, zugänglich und vielfach neu gedacht hat. Ihr besonderes Interesse gal
 t dabei der detailreichen Darstellung von Frauengeschichten und Frauenport
 raits. Der Spiegel bezeichnete sie als “schreibende Kämpferin”.\n\nIn
  lebendiger Form werden ausgewählte Bücher und Interviewausschnitte vorg
 estellt und besprochen. Den Auftakt bildet ein Porträt\, das Barbara Beuy
 s für den Frauenstadtplan verfasst hat.\n\nReferentin:\nIna Hoerner-Theod
 or\n\nVeranstalterin:\nFriedensbildungswerk Köln (www.friedensbildungswer
 k.de)\nin Kooperation mit dem Kölner Frauengeschichtsverein e.V.\n\nKonta
 kt:\nTel.: 0221 / 24 82 65\, E-Mail: info@frauengeschichtsverein.de\n\nKos
 ten / Anmeldung:\nEintritt frei\, Spenden erbeten
LOCATION:Friedensbildungswerk Köln e.V.\, Obenmarspforten 7 –11\, 50667 
 Köln
GEO:50.9377755;6.9570134
X-APPLE-STRUCTURED-LOCATION;VALUE=URI;X-ADDRESS=Obenmarspforten 7 –11\, K
 öln\, 50667\, Veranstaltungsort\, Deutschland;X-APPLE-RADIUS=100;X-TITLE=
 Friedensbildungswerk Köln e.V.:geo:50.9377755,6.9570134
END:VEVENT
BEGIN:VTIMEZONE
TZID:Europe/Berlin
X-LIC-LOCATION:Europe/Berlin
BEGIN:STANDARD
DTSTART:20251026T020000
TZOFFSETFROM:+0200
TZOFFSETTO:+0100
TZNAME:CET
END:STANDARD
END:VTIMEZONE
END:VCALENDAR