BEGIN:VCALENDAR
VERSION:2.0
PRODID:-//wp-events-plugin.com//7.2.3.1//EN
TZID:Europe/Berlin
X-WR-TIMEZONE:Europe/Berlin
BEGIN:VEVENT
UID:2623@frauenportal.koeln
DTSTART;TZID=Europe/Berlin:20200229T190000
DTEND;TZID=Europe/Berlin:20200229T210000
DTSTAMP:20200131T133653Z
URL:https://frauenportal.koeln/veranstaltungen/dus-gezang-fyn-mayn-hartz-j
 iddische-lieder/
SUMMARY:„Dus Gezang fyn mayn Hartz“ – Jiddische Lieder
DESCRIPTION:mit Vera Ruhrus (voc) und Carolina Brauckmann (git).\n\nJiddisc
 he Lieder thematisieren den Alltag\, die Liebe und die Lebenskunst. Orient
 alische und traditionelle osteuropäische Klänge treffen auf Tango und Sw
 ing.\n\nVeranstalterin:\nBeginen Köln e.V.\n\nAnsprechpartnerinnen:\nChri
 stine Müthrath\, Tel.: 0221 / 9655820\, E-Mail: info@beginen.de\n\nKosten
  / Anmeldung:\nKostenbeitrag: 8 € / 5 € ermäßigter Beitrag (Ermäßi
 gte Beiträge gelten für Vereinsfrauen und Kölnpass-InhaberInnen)\n\nVer
 anstaltungsort:\nBeginentreff im Beginenhof Köln\, Unter Linden 119\, 508
 59 Köln\, [map id=1048]
END:VEVENT
BEGIN:VTIMEZONE
TZID:Europe/Berlin
X-LIC-LOCATION:Europe/Berlin
BEGIN:STANDARD
DTSTART:20191027T020000
TZOFFSETFROM:+0200
TZOFFSETTO:+0100
TZNAME:CET
END:STANDARD
END:VTIMEZONE
END:VCALENDAR