BEGIN:VCALENDAR
VERSION:2.0
PRODID:-//wp-events-plugin.com//7.2.3.1//EN
TZID:Europe/Berlin
X-WR-TIMEZONE:Europe/Berlin
BEGIN:VEVENT
UID:2727@frauenportal.koeln
DTSTART;TZID=Europe/Berlin:20200704T180000
DTEND;TZID=Europe/Berlin:20200704T200000
DTSTAMP:20200615T133555Z
URL:https://frauenportal.koeln/veranstaltungen/dyke-march-cologne-2020-als
 -fahrrad-demo/
SUMMARY:Dyke* March Cologne 2020 - als Fahrrad-Demo!
DESCRIPTION:Am Samstag\, dem 4. Juli 2020\, startet zum sechsten Mal der Dy
 ke* March Cologne (DMC) – dieses Mal als Fahrrad-Demo vom Neumarkt aus. 
 \n\nAus dem Aufruf:\n\n"Obwohl der CSD verschoben ist\, obwohl durch Coron
 a alles anders ist als sonst: Der Dyke*March Cologne kommt - in diesem Jah
 r auf dem Fahrrad! Bringt euch in Position\, macht eure Schilder\, Plakate
 \, Trillerpfeifen und alles\, was Krach macht\, bereit und seid am 4.7. am
  Start\, um gemeinsam lesbische\, queere Sichtbarkeit zu feiern. Wir fahre
 n um 18:00 Uhr vom Neumarkt in Richtung Heumarkt. Bringt also eure Räder 
 mit\, setzt eure Kinder und Hunde in die Fahrradanhänger und/oder meldet 
 euch für eine unserer Rikschas an! \n\nLange waren wir wegen der Corona-P
 andemie erstarrt\, lange haben wir uns nicht gesehen. Unsere queeren Räum
 e standen uns nicht zur Verfügung. Verunsichert sind wir noch immer. Und 
 doch finden wir es an der Zeit\, uns wieder als Community zu treffen und u
 ns auch nach außen hin sichtbar zu machen. Wir erwarten euch!\n\nIn Zeite
 n von Corona gibt es Auflagen: \nErstens: 1\,5 Meter Abstand halten!\nZwei
 tens: Maske tragen!\n \nWir freuen uns auf eine bunte Vielfalt verschieden
 er Masken mit zahlreichen originellen\, politischen Statements eurerseits.
 \n \nUnser Motto in diesem Jahr: Wir sind immer noch hier\, wir sind immer
  noch queer! Alle aktuellen Informationen findet ihr auf unserer Homepage 
 www.dykemarchcologne.de\, auf Facebook und auf Instagram. Teilt gerne und 
 tragt die Infos in die Welt!"\n\nIm englischen Sprachraum steht das Wort "
 Dyke" inzwischen für eine "Lesbe/queere Frau/frauenliebende Frau/genderqu
 eere Lesbe“\, die stark und selbstbewusst ist. Wie so viele einst abwert
 end gemeinte Wörter hat das Wort im Laufe der letzten Jahrzehnte eine Umd
 eutung ins Positive erfahren.\n\nDer erste Dyke March überhaupt fand im M
 ai 1981 im kanadischen Vancouver statt\, in den USA der erste landesweite 
 Dyke March 1993 in Washington - mit 20.000 Teilnehmerinnen. Noch im selben
  Jahr folgten Marches in New York und San Francisco. Der erste europäisch
 e Dyke March startete 2012 in London\, 2013 schloss sich Berlin an\, 2015 
 Köln. 2019 finden in mehr als zehn Städten Dyke Marches in Deutschland s
 tatt.\n\nVeranstalterin:\nIG Dyke March Cologne\, www.dykemarchcologne.de\
 n\nAnsprechpartnerinnen:\nAnnette und Birgit für das Orga-Team des Dyke* 
 March Cologne\nE-Mail: info@dykemarchcologne.de\n\nVeranstaltungsort:\nTre
 ffpunkt: 17.30 Uhr\, Neumarkt 50667 Köln
END:VEVENT
BEGIN:VTIMEZONE
TZID:Europe/Berlin
X-LIC-LOCATION:Europe/Berlin
BEGIN:DAYLIGHT
DTSTART:20200329T030000
TZOFFSETFROM:+0100
TZOFFSETTO:+0200
TZNAME:CEST
END:DAYLIGHT
END:VTIMEZONE
END:VCALENDAR