BEGIN:VCALENDAR
VERSION:2.0
PRODID:-//wp-events-plugin.com//7.2.3.1//EN
TZID:Europe/Berlin
X-WR-TIMEZONE:Europe/Berlin
BEGIN:VEVENT
UID:4323@frauenportal.koeln
DTSTART;TZID=Europe/Berlin:20230708T180000
DTEND;TZID=Europe/Berlin:20230708T200000
DTSTAMP:20230602T080612Z
URL:https://frauenportal.koeln/veranstaltungen/dyke-march-cologne-2023/
SUMMARY:Dyke* March Cologne 2023
DESCRIPTION:Bereits zum neunten Mal findet der Dyke* March Cologne am CSD-W
 ochenende in Köln statt. Der Demonstrationszug durch die Kölner Innensta
 dt für lesbische und queere Sichtbarkeit startet und endet auf dem Roncal
 liplatz.\n\nDer Dyke* March Cologne ist eine Demonstration von cis und tra
 ns*\, nicht-binären und inter* Lesben\, bisexuellen und queeren Frauen un
 d ihren Unterstützer*innen. Gemeinsam wird auf die Straße gegangen\, um 
 für lesbische und queere Sichtbarkeit zu demonstrieren\, Solidarität zu 
 zeigen und Gemeinschaft zu feiern. \n\nNach wie vor sind die Lebenswelten\
 , das Engagement und die Interessen von Lesben\, bisexuellen und queeren F
 rauen in der Öffentlichkeit kaum sichtbar. Sie sind rechtlich nicht in je
 der Hinsicht gleichgestellt und erleben häufig Ausgrenzung und Diskrimini
 erung. Der Dyke* March Cologne schafft einen Raum für diese Themen und Fo
 rderungen\, die so vielfältig sind wie ihre Lebenswelten. \n\nDer Dyke* M
 arch Cologne engagiert sich gegen Hass und Ausgrenzung. Gruppierungen und 
 Personen mit menschenverachtender Ideologie sind ausdrücklich nicht erwü
 nscht.\n\nHintergrund\n\nDer Begriff „Dyke“ kommt aus dem englischen S
 prachraum und wurde zunächst als Schimpfwort benutzt für alle\, die nich
 t in die Norm davon passten\, wie „Frauen sein sollten“. Die lesbisch*
 queere Community hat sich den Begriff als positive Selbstbezeichnung angee
 ignet.\nDer erste Dyke March fand 1981 im kanadischen Vancouver statt. In 
 den USA startete der erste landesweite Dyke March 1993 in Washington. Der 
 erste europäische Dyke March fand 2012 in London statt\, 2013 schloss sic
 h Berlin an\, 2015 Köln. Mittlerweile finden in fast 20 deutschen Städte
 n Dyke Marches statt.\n\nVeranstalterin:\nIG Dyke March Cologne\, www.dyke
 marchcologne.de\n\nAnsprechpartnerinnen:\nMaren Wuch und Esther Wahlen fü
 r das Orga-Team des Dyke* March Cologne\, E-Mail: info@dykemarchcologne.de
LOCATION:Roncalliplatz\, Roncalliplatz\, 50667 Köln 
GEO:50.94043365;6.95795059
X-APPLE-STRUCTURED-LOCATION;VALUE=URI;X-ADDRESS=Roncalliplatz\, Köln \, 50
 667\, Veranstaltungsort\, Deutschland;X-APPLE-RADIUS=100;X-TITLE=Roncallip
 latz:geo:50.94043365,6.95795059
END:VEVENT
BEGIN:VTIMEZONE
TZID:Europe/Berlin
X-LIC-LOCATION:Europe/Berlin
BEGIN:DAYLIGHT
DTSTART:20230326T030000
TZOFFSETFROM:+0100
TZOFFSETTO:+0200
TZNAME:CEST
END:DAYLIGHT
END:VTIMEZONE
END:VCALENDAR