BEGIN:VCALENDAR
VERSION:2.0
PRODID:-//wp-events-plugin.com//7.2.3.1//EN
TZID:Europe/Berlin
X-WR-TIMEZONE:Europe/Berlin
BEGIN:VEVENT
UID:5102@frauenportal.koeln
DTSTART;TZID=Europe/Berlin:20240720T180000
DTEND;TZID=Europe/Berlin:20240720T200000
DTSTAMP:20240611T105818Z
URL:https://frauenportal.koeln/veranstaltungen/dyke-march-cologne-2024/
SUMMARY:Dyke* March Cologne 2024
DESCRIPTION:In Zeiten von Rechtsruck und zunehmender Queerfeindlichkeit hat
  der Dyke* March an Bedeutung gewonnen. Am Samstag\, dem 20. Juli 2024\, w
 erden wieder tausende Teilnehmer*innen erwartet\, um in der Kölner Innens
 tadt lesbisch_queere Solidarität zu feiern. Bereits zum zehnten Mal setzt
  die Demonstration ein Zeichen für die Rechte und Sichtbarkeit von Lesben
 \, Frauen sowie trans* oder nicht-binären Personen\, die sich lesbisch\, 
 queer oder bi+ verorten.\n\nHintergrund\n\nDer Begriff „Dyke“ kommt au
 s dem englischen Sprachraum und wurde zunächst als Schimpfwort benutzt f
 ür alle\, die nicht in die Norm davon passten\, wie „Frauen sein sollte
 n“. Die lesbisch*queere Community hat sich den Begriff als positive Selb
 stbezeichnung angeeignet.\nDer erste Dyke March fand 1981 im kanadischen V
 ancouver statt. In den USA startete der erste landesweite Dyke March 1993 
 in Washington. Der erste europäische Dyke March fand 2012 in London statt
 \, 2013 schloss sich Berlin an\, 2015 Köln. Mittlerweile finden in fast 2
 0 deutschen Städten Dyke Marches statt.\n\nVeranstalterin:\nIG Dyke March
  Cologne\, www.dykemarchcologne.de\n\nAnsprechpartnerinnen:\nEsther Wahlen
  und Maren Wuch für das Orga-Team des Dyke* March Cologne\, E-Mail: info@
 dykemarchcologne.de\n\nStart des Demo-Zugs:\nNeumarkt\, 50667 Köln
END:VEVENT
BEGIN:VTIMEZONE
TZID:Europe/Berlin
X-LIC-LOCATION:Europe/Berlin
BEGIN:DAYLIGHT
DTSTART:20240331T030000
TZOFFSETFROM:+0100
TZOFFSETTO:+0200
TZNAME:CEST
END:DAYLIGHT
END:VTIMEZONE
END:VCALENDAR