BEGIN:VCALENDAR
VERSION:2.0
PRODID:-//wp-events-plugin.com//7.2.3.1//EN
TZID:Europe/Berlin
X-WR-TIMEZONE:Europe/Berlin
BEGIN:VEVENT
UID:5575@frauenportal.koeln
DTSTART;TZID=Europe/Berlin:20250322T140000
DTEND;TZID=Europe/Berlin:20250322T160000
DTSTAMP:20250228T134624Z
URL:https://frauenportal.koeln/veranstaltungen/echt-koelsch-originelle-koe
 lnerinnen-4/
SUMMARY:Echt Kölsch! Originelle Kölnerinnen
DESCRIPTION:Sie werden in Kölner Mundartliedern besungen\, sind in Stein v
 erewigt oder liefern Vorlagen für beliebte Karnevalskostüme: Kölner Ori
 ginale weiblichen Geschlechts. Themen dieser Tour durch die Altstadt sind 
 das Bärbelchen\, die Geschichte von Jan und Griet\, die Kölner Entertain
 erinnen Grete Fluss und Trude Herr.\n\nVeranstalterin:\nKölner Frauengesc
 hichtsverein e.V.\n\nKontakt:\nTel.: 0221 / 24 82 65\, E-Mail: info@fraue
 ngeschichtsverein.de\n\nKosten / Anmeldung:\nKostenbeitrag: 12 €\nTicket
 s unter www.qultor.de
LOCATION:Am Hänneschen-Theater\, Eisenmarkt 2-4\, 50667 Köln
GEO:50.93689;6.96189
X-APPLE-STRUCTURED-LOCATION;VALUE=URI;X-ADDRESS=Eisenmarkt 2-4\, Köln\, 50
 667\, Veranstaltungsort\, Deutschland;X-APPLE-RADIUS=100;X-TITLE=Am Hänne
 schen-Theater:geo:50.93689,6.96189
END:VEVENT
BEGIN:VTIMEZONE
TZID:Europe/Berlin
X-LIC-LOCATION:Europe/Berlin
BEGIN:STANDARD
DTSTART:20241027T020000
TZOFFSETFROM:+0200
TZOFFSETTO:+0100
TZNAME:CET
END:STANDARD
END:VTIMEZONE
END:VCALENDAR