BEGIN:VCALENDAR
VERSION:2.0
PRODID:-//wp-events-plugin.com//7.2.3.1//EN
TZID:Europe/Berlin
X-WR-TIMEZONE:Europe/Berlin
BEGIN:VEVENT
UID:1405@frauenportal.koeln
DTSTART;TZID=Europe/Berlin:20181115T140000
DTEND;TZID=Europe/Berlin:20181115T173000
DTSTAMP:20181031T191257Z
URL:https://frauenportal.koeln/veranstaltungen/echte-kunst-ist-eigensinnig
 /
SUMMARY:Echte Kunst ist eigensinnig
DESCRIPTION:Gabriele Münter im Kölner Ludwig-Museum.\n\nAnlass für die A
 usstellung im Kölner Museum Ludwig ist der 140. Geburtstag der Künstleri
 n\, die eine bedeutende Expressionistin war und eine wichtige Figur der K
 ünstler*innengruppe "Blauer Reiter"\, die sich in ihrem Haus gründete.\n
 \nEs wird eine Führung durch die mit über 100 Werken ausgestattete Ausst
 ellung geben\, die vom Lenbachhaus in München kuratiert wurde und nun auc
 h in Köln zu sehen ist. Dabei wird auch die Verbindung Münters zum Rhein
 land\, wo die Malerin Kinderjahre verlebte und auch ihre erste Einzelausst
 ellung hatte\, und zwar im Kunstsalon Lenobel in Köln. Im anschließenden
  Gedankenaustausch in der Geschäftsstelle des Diözesanverbandes wird es 
 um Fragen zur Lebenssituation von Gabriele Münter gehen: Wie gleichberech
 tigt konnten Frauen in der Zeit Münters ihre Leben gestalten? Konnte Mün
 ter frei entscheiden oder waren das Rollenverständnis der Zeit und bestim
 mte Wertvorstellungen entscheidend?\n\nReferentinnen: \nMareike Fänger M.
 A.\, Architektin und Kunsthistorikerin\, die durch die Ausstellung führt 
 und Hildegard Müller-Brünker\, kfd-Referentin\n\nHier ist die Einladung:
  Münter-Nachmittag. Einladung und Anmeldung (pdf-Datei\, 586 KB)\n\nVeran
 stalterin:\nKatholische Frauengemeinschaft Deutschlands (kfd) im Erzbistu
 m Köln\n\nAnsprechpartnerin:\nFranziska Osten\, Tel.: 0221 / 1642-1385\, 
 E-Mail: info@kfd-koeln.de\n\nKosten / Anmeldung:\nTeilnahmebeitrag für kf
 d-Mitglieder: 14 Euro\, für Nichtmitglieder: 19 Euro.\n(Für Museumseintr
 itt und Führung durch die Ausstellung\; Input\, Gespräch und Austausch\;
  Kaffee/Tee und Gebäck)\n\nVeranstaltungsort:\nTreffpunkt:  13.45 Uhr\, i
 m Foyer des Museums Ludwig\, Heinrich-Böll-Platz\, 50667 Köln\, [map id=
 1018] 
END:VEVENT
BEGIN:VTIMEZONE
TZID:Europe/Berlin
X-LIC-LOCATION:Europe/Berlin
BEGIN:STANDARD
DTSTART:20181028T020000
TZOFFSETFROM:+0200
TZOFFSETTO:+0100
TZNAME:CET
END:STANDARD
END:VTIMEZONE
END:VCALENDAR