BEGIN:VCALENDAR
VERSION:2.0
PRODID:-//wp-events-plugin.com//7.2.3.1//EN
TZID:Europe/Berlin
X-WR-TIMEZONE:Europe/Berlin
BEGIN:VEVENT
UID:1027@frauenportal.koeln
DTSTART;TZID=Europe/Berlin;VALUE=DATE:20180208
DTEND;TZID=Europe/Berlin;VALUE=DATE:20180209
DTSTAMP:20260126T162044Z
URL:https://frauenportal.koeln/veranstaltungen/edelgard-mobil-anlaufstelle
 -fuer-frauen-und-maedchen/
SUMMARY:Start: Edelgard-Mobil - Anlaufstelle für Frauen und Mädchen
DESCRIPTION:Sie erreichen das Beratungsmobil telefonisch unter: 0221 / 221-
 27777\n\nDas Beratungsmobil ist eine Anlaufstelle für Frauen und Mädchen
  bei Großevents. Erfahrene und geschulte Fachfrauen hören Ihnen zu und b
 esprechen mit Ihnen die nächsten Schritte nach einer Belästigung\, Nöti
 gung oder Vergewaltigung.\n\nKommen Sie vorbei oder rufen Sie an:\n\n 	Wen
 n Sie verunsichert sind\n 	Wenn Sie sich bedroht fühlen und Unterstützun
 g brauchen\n 	Wenn Sie einen sexuellen Übergriff beobachtet haben und Rat
  möchten\n 	Wenn Sie sexuell belästigt\, genötigt oder vergewaltigt wor
 den sind\n\nIm Beratungsmobil erhalten Sie:\n\n 	Professionelle Beratung u
 nd Unterstützung\n 	Einen sicheren Ort\, um auf vertraute Personen zu war
 ten\n 	Gegebenenfalls Begleitung zur Polizei\, ins Krankenhaus oder zur An
 onymen Spurensicherung\n\nKarneval 2018\n\nWilly-Millowitsch-Platz (Ehrens
 traße/Breite Straße)\n\nWeiberfastnacht\, 8. Februar\, von 11 bis 1 Uhr\
 nFreitag\, 9. Februar\, von 20 bis 1 Uhr\nSamstag\, 10. Februar\, von 20 b
 is 1 Uhr\nSonntag\, 11. Februar\, von 20 bis 1 Uhr\nRosenmontag\, 12. Febr
 uar\, von 20 bis 1 Uhr\nVeilchendienstag\, 13. Februar\, von 20 bis 1 Uhr\
 n\nHier ist das Info-Blatt: Edelgard Karneval 2018 (pdf-Datei\, 137 KB)\n\
 nVeranstalterin:\nKölner Initiative gegen Sexualisierte Gewalt\n\nAnsprec
 hpartnerin:\nFrauke Mahr\, Tel.: 0221 / 45 35 56 51\, E-Mail: frauke-mahr@
 lobby-fuer-maedchen.de\n\nVeranstaltungsort:\nBeratungsmobil: Willy-Millow
 itsch-Platz\, Breite Str. / Ehrenstr.\, 50667 Köln\, [map id=12612]
END:VEVENT
BEGIN:VTIMEZONE
TZID:Europe/Berlin
X-LIC-LOCATION:Europe/Berlin
BEGIN:STANDARD
DTSTART:20171029T020000
TZOFFSETFROM:+0200
TZOFFSETTO:+0100
TZNAME:CET
END:STANDARD
END:VTIMEZONE
END:VCALENDAR