BEGIN:VCALENDAR
VERSION:2.0
PRODID:-//wp-events-plugin.com//7.2.3.1//EN
TZID:Europe/Berlin
X-WR-TIMEZONE:Europe/Berlin
BEGIN:VEVENT
UID:2107@frauenportal.koeln
DTSTART;TZID=Europe/Berlin;VALUE=DATE:20191111
DTEND;TZID=Europe/Berlin;VALUE=DATE:20191112
DTSTAMP:20191029T143756Z
URL:https://frauenportal.koeln/veranstaltungen/edelgard-mobil-elfter-im-el
 ften-2019/
SUMMARY:Edelgard-Mobil - Elfter im Elften 2019
DESCRIPTION:Sie erreichen das Beratungsmobil telefonisch unter: 0221 / 221-
 27777\n\nDas Beratungsmobil ist eine Anlaufstelle für Frauen und Mädchen
  bei Großevents. Erfahrene und geschulte Fachfrauen hören Ihnen zu und b
 esprechen mit Ihnen die nächsten Schritte nach einer Belästigung\, Nöti
 gung oder Vergewaltigung.\n\nKommen Sie vorbei oder rufen Sie an:\n\n 	Wen
 n Sie verunsichert sind\n 	Wenn Sie sich bedroht fühlen und Unterstützun
 g brauchen\n 	Wenn Sie einen sexuellen Übergriff beobachtet haben und Rat
  möchten\n 	Wenn Sie sexuell belästigt\, genötigt oder vergewaltigt wor
 den sind\n\nIm Beratungsmobil erhalten Sie:\n\n 	Professionelle Beratung u
 nd Unterstützung\n 	Einen sicheren Ort\, um auf vertraute Personen zu war
 ten\n 	Gegebenenfalls Begleitung zur Polizei\, ins Krankenhaus oder zur An
 onymen Spurensicherung\n\nElfter im Elften 2019\nMontag\, 11. November 201
 9\nDas EDELGARD-Mobil steht von 11 bis 1 Uhr an der Herz-Jesu-Kirche\, Hoh
 enstaufenring.\n\nVeranstalterin:\nKölner Initiative gegen Sexualisierte 
 Gewalt\, www.edelgard.koeln\n\nAnsprechpartnerin:\nFrauke Mahr\, Tel.: 022
 1 / 45 35 56 51\, E-Mail: frauke-mahr@lobby-fuer-maedchen.de\n\nVeranstalt
 ungsort:\nAn der Herz-Jesu-Kirche\, Hohenstaufenring\, 50674 Köln\, [map 
 id=15097]
END:VEVENT
BEGIN:VTIMEZONE
TZID:Europe/Berlin
X-LIC-LOCATION:Europe/Berlin
BEGIN:STANDARD
DTSTART:20191027T020000
TZOFFSETFROM:+0200
TZOFFSETTO:+0100
TZNAME:CET
END:STANDARD
END:VTIMEZONE
END:VCALENDAR