BEGIN:VCALENDAR
VERSION:2.0
PRODID:-//wp-events-plugin.com//7.2.3.1//EN
TZID:Europe/Berlin
X-WR-TIMEZONE:Europe/Berlin
BEGIN:VEVENT
UID:1369@frauenportal.koeln
DTSTART;TZID=Europe/Berlin;VALUE=DATE:20181111
DTEND;TZID=Europe/Berlin;VALUE=DATE:20181112
DTSTAMP:20181012T101519Z
URL:https://frauenportal.koeln/veranstaltungen/edelgard-mobil-elfter-im-el
 ften-anlaufstelle-fuer-frauen-und-maedchen/
SUMMARY:Edelgard-Mobil - Elfter im Elften: Anlaufstelle für Frauen und Mä
 dchen
DESCRIPTION:Sie erreichen das Beratungsmobil telefonisch unter: 0221 / 221-
 27777\n\nDas Beratungsmobil ist eine Anlaufstelle für Frauen und Mädchen
  bei Großevents. Erfahrene und geschulte Fachfrauen hören Ihnen zu und b
 esprechen mit Ihnen die nächsten Schritte nach einer Belästigung\, Nöti
 gung oder Vergewaltigung.\n\nKommen Sie vorbei oder rufen Sie an:\n\n 	Wen
 n Sie verunsichert sind\n 	Wenn Sie sich bedroht fühlen und Unterstützun
 g brauchen\n 	Wenn Sie einen sexuellen Übergriff beobachtet haben und Rat
  möchten\n 	Wenn Sie sexuell belästigt\, genötigt oder vergewaltigt wor
 den sind\n\nIm Beratungsmobil erhalten Sie:\n\n 	Professionelle Beratung u
 nd Unterstützung\n 	Einen sicheren Ort\, um auf vertraute Personen zu war
 ten\n 	Gegebenenfalls Begleitung zur Polizei\, ins Krankenhaus oder zur An
 onymen Spurensicherung\n\nElfter im Elften 2018\n\n\nDas EDELGARD-Mobil st
 eht von 11 bis 1 Uhr auf dem Zülpicher Platz / Hohenstaufenring.\n\nVeran
 stalterin:\nKölner Initiative gegen Sexualisierte Gewalt\, www.edelgard.k
 oeln\n\nAnsprechpartnerin:\nFrauke Mahr\, Tel.: 0221 / 45 35 56 51\, E-Mai
 l: frauke-mahr@lobby-fuer-maedchen.de\n\nVeranstaltungsort:\nZülpicher Pl
 atz / Hohenstaufenring\, 50674 Köln\n
END:VEVENT
BEGIN:VTIMEZONE
TZID:Europe/Berlin
X-LIC-LOCATION:Europe/Berlin
BEGIN:STANDARD
DTSTART:20181028T020000
TZOFFSETFROM:+0200
TZOFFSETTO:+0100
TZNAME:CET
END:STANDARD
END:VTIMEZONE
END:VCALENDAR