BEGIN:VCALENDAR
VERSION:2.0
PRODID:-//wp-events-plugin.com//7.2.3.1//EN
TZID:Europe/Berlin
X-WR-TIMEZONE:Europe/Berlin
BEGIN:VEVENT
UID:1978@frauenportal.koeln
DTSTART;TZID=Europe/Berlin;VALUE=DATE:20190713
DTEND;TZID=Europe/Berlin;VALUE=DATE:20190714
DTSTAMP:20190621T095231Z
URL:https://frauenportal.koeln/veranstaltungen/edelgard-mobil-koelner-lich
 ter-anlaufstelle-fuer-frauen-und-maedchen-2/
SUMMARY:Edelgard-Mobil -  Kölner Lichter: Anlaufstelle für Frauen und Mä
 dchen
DESCRIPTION:Sie erreichen das Beratungsmobil telefonisch unter: 0221 / 221-
 27777\n\nDas Beratungsmobil ist eine Anlaufstelle für Frauen und Mädchen
  bei Großevents. Erfahrene und geschulte Fachfrauen hören Ihnen zu und b
 esprechen mit Ihnen die nächsten Schritte nach einer Belästigung\, Nöti
 gung oder Vergewaltigung.\n\nKommen Sie vorbei oder rufen Sie an:\n\n 	Wen
 n Sie verunsichert sind\n 	Wenn Sie sich bedroht fühlen und Unterstützun
 g brauchen\n 	Wenn Sie einen sexuellen Übergriff beobachtet haben und Rat
  möchten\n 	Wenn Sie sexuell belästigt\, genötigt oder vergewaltigt wor
 den sind\n\nIm Beratungsmobil erhalten Sie:\n\n 	Professionelle Beratung u
 nd Unterstützung\n 	Einen sicheren Ort\, um auf vertraute Personen zu war
 ten\n 	Gegebenenfalls Begleitung zur Polizei\, ins Krankenhaus oder zur An
 onymen Spurensicherung\n\nKölner Lichter 2018\n\nEDELGARD ist von 22 bis 
 2 Uhr im Sanitätszelt am Tanzbrunnen zu finden.\n\nVeranstalterin:\nKöln
 er Initiative gegen Sexualisierte Gewalt\, www.edelgard.koeln\n\nAnsprechp
 artnerin:\nFrauke Mahr\, Tel.: 0221 / 45 35 56 51\, E-Mail: frauke-mahr@lo
 bby-fuer-maedchen.de\n\nVeranstaltungsort:\nSanitätszelt am Tanzbrunnen K
 öln\, Rheinparkweg 1\, 50679 Köln\, [map id=12969]
END:VEVENT
BEGIN:VTIMEZONE
TZID:Europe/Berlin
X-LIC-LOCATION:Europe/Berlin
BEGIN:DAYLIGHT
DTSTART:20190331T030000
TZOFFSETFROM:+0100
TZOFFSETTO:+0200
TZNAME:CEST
END:DAYLIGHT
END:VTIMEZONE
END:VCALENDAR