BEGIN:VCALENDAR
VERSION:2.0
PRODID:-//wp-events-plugin.com//7.2.3.1//EN
TZID:Europe/Berlin
X-WR-TIMEZONE:Europe/Berlin
BEGIN:VEVENT
UID:4608@frauenportal.koeln
DTSTART;TZID=Europe/Berlin:20240129T094500
DTEND;TZID=Europe/Berlin:20240129T113000
DTSTAMP:20231215T103857Z
URL:https://frauenportal.koeln/veranstaltungen/ein-vormittag-zur-jahreslos
 ung-2024/
SUMMARY:Forum am Montag: Ein Vormittag zur Jahreslosung 2024
DESCRIPTION:„Alles\, was ihr tut\, geschehe in Liebe.“\n(1. Korinther 1
 6\, 14)\n\nReferent:\nPfarrer i.R. Wolfgang Pöttgen\n\nVeranstalterin:\nE
 v. Kirchengemeinde Bensberg\n\nAnsprechpartnerin:\nKarin-D. Witthöft\, Eh
 renamtliche Frauenarbeit\, Tel.: 02204 / 61165\, E-Mail: K_D.W@web.de\n\nK
 osten / Anmeldung:\nJede Frau jeden Alters und jeder Konfession ist willko
 mmen – ob als aktive oder passive Teilnehmerin.
LOCATION:Ev. Gemeindehaus Kippekausen\, Am Rittersteg 1\, 51427 Bergisch-Gl
 adbach
GEO:50.9585;7.1264
X-APPLE-STRUCTURED-LOCATION;VALUE=URI;X-ADDRESS=Am Rittersteg 1\, Bergisch-
 Gladbach\, 51427\, Veranstaltungsort\, Deutschland;X-APPLE-RADIUS=100;X-TI
 TLE=Ev. Gemeindehaus Kippekausen:geo:50.9585,7.1264
END:VEVENT
BEGIN:VTIMEZONE
TZID:Europe/Berlin
X-LIC-LOCATION:Europe/Berlin
BEGIN:STANDARD
DTSTART:20231029T020000
TZOFFSETFROM:+0200
TZOFFSETTO:+0100
TZNAME:CET
END:STANDARD
END:VTIMEZONE
END:VCALENDAR