BEGIN:VCALENDAR
VERSION:2.0
PRODID:-//wp-events-plugin.com//7.2.3.1//EN
TZID:Europe/Berlin
X-WR-TIMEZONE:Europe/Berlin
BEGIN:VEVENT
UID:1314@frauenportal.koeln
DTSTART;TZID=Europe/Berlin:20180915T193000
DTEND;TZID=Europe/Berlin:20180915T213000
DTSTAMP:20180831T172740Z
URL:https://frauenportal.koeln/veranstaltungen/eine-reise-durch-hildegard-
 knefs-leben/
SUMMARY:Eine Reise durch Hildegard Knefs Leben
DESCRIPTION:Die Schauspielerin und Sängerin Anke Jansen (www.knef-hommage.
 de) porträtiert in ihrem Solo-Programm eine starke Frau. Eine\, die vor a
 llem eines konnte: trotz vieler Rückschläge immer wieder aufstehen! Und 
 so zu dem wurde\, was sie war: die letzte deutsche Diva!\n\nDabei geht es 
 Anke Jansen nicht um die bloße Imitation\, sondern vielmehr um eine zeitg
 emäße Interpretation von über zwanzig Knef-Klassikern\, von „Eins und
  eins\, das macht zwei“ über „Für dich soll´s rote Rosen regnen“ 
 bis „Von nun an ging´s bergab“ und natürlich „So oder so ist das L
 eben“.\n\nLassen Sie sich von ihren Chanson-Hits\, die speziell für die
 sen Abend arrangiert wurden\, in den Bann ziehen und erleben Sie Liebe\, H
 ass\, Theater\, Film\, Humor und vieles mehr.\n\nEin unterhaltsames und se
 hr musikalisches Programm mit Kontrabass und Klavier!\n\nVeranstalterin:\n
 Beginen Köln e.V.\n\nAnsprechpartnerin:\nChristine Müthrath\, Tel.: 0221
  / 9655820\, E-Mail: info@beginen.de\n\nKosten:\nKostenbeitrag: 12 € / 1
 0 € ermäßigter Beitrag.\n(Ermäßigte Beiträge gelten für Vereinsfra
 uen und Kölnpass-InhaberInnen)\n\nVeranstaltungsort:\nBeginentreff im Beg
 inenhof Köln\, Unter Linden 119\, 50859 Köln\, [map id=1048]
END:VEVENT
BEGIN:VTIMEZONE
TZID:Europe/Berlin
X-LIC-LOCATION:Europe/Berlin
BEGIN:DAYLIGHT
DTSTART:20180325T030000
TZOFFSETFROM:+0100
TZOFFSETTO:+0200
TZNAME:CEST
END:DAYLIGHT
END:VTIMEZONE
END:VCALENDAR