BEGIN:VCALENDAR
VERSION:2.0
PRODID:-//wp-events-plugin.com//7.2.3.1//EN
TZID:Europe/Berlin
X-WR-TIMEZONE:Europe/Berlin
BEGIN:VEVENT
UID:1132@frauenportal.koeln
DTSTART;TZID=Europe/Berlin:20180614T200000
DTEND;TZID=Europe/Berlin:20180614T213000
DTSTAMP:20180531T154208Z
URL:https://frauenportal.koeln/veranstaltungen/elterngeld-und-elternzeit-3
 /
SUMMARY:Elterngeld und Elternzeit
DESCRIPTION:Informationen rund um die rechtliche Situation junger Paare und
  Finanzen\n\nInformationsabend\n\nReferent\nSören Bangert\, Pro Familia K
 öln-Zentrum\, www.profamilia.de\n\nVeranstalterin:\nKölner Geburtshaus e
 .V.\n\nAnsprechpartnerin:\nStefanie Lippelt\, Tel.: 02 21 / 72 44 48\, E-M
 ail: info@koelner-geburtshaus.de\n\nKosten / Anmeldung:\nEintritt: 8\,- Eu
 ro pro Person\, 15 Euro pro Paar\n\nVeranstaltungsort:\nKölner Geburtshau
 s\, Overbeckstr. 7\, 50823 Köln\, [map id=897]
END:VEVENT
BEGIN:VTIMEZONE
TZID:Europe/Berlin
X-LIC-LOCATION:Europe/Berlin
BEGIN:DAYLIGHT
DTSTART:20180325T030000
TZOFFSETFROM:+0100
TZOFFSETTO:+0200
TZNAME:CEST
END:DAYLIGHT
END:VTIMEZONE
END:VCALENDAR