BEGIN:VCALENDAR
VERSION:2.0
PRODID:-//wp-events-plugin.com//7.2.3.1//EN
TZID:Europe/Berlin
X-WR-TIMEZONE:Europe/Berlin
BEGIN:VEVENT
UID:1826@frauenportal.koeln
DTSTART;TZID=Europe/Berlin:20190711T200000
DTEND;TZID=Europe/Berlin:20190711T213000
DTSTAMP:20190228T174733Z
URL:https://frauenportal.koeln/veranstaltungen/elterngeld-und-elternzeit-6
 /
SUMMARY:Elterngeld und Elternzeit
DESCRIPTION:Informationen rund um die rechtliche und finanzielle Situation 
 für (werdende) Eltern.\n\nInformationsabend\n\nReferent\nSören Bangert\,
  Pro Familia Köln-Zentrum\, www.profamilia.de\n\nVeranstalterin:\nKölner
  Geburtshaus e.V.\n\nAnsprechpartnerin:\nStefanie Lippelt\, Tel.: 02 21 / 
 72 44 48\, E-Mail: info@koelner-geburtshaus.de\n\nKosten / Anmeldung:\nEin
 tritt: 8\,- Euro pro Person\, 15 Euro pro Paar\n\nVeranstaltungsort:\nKöl
 ner Geburtshaus\, Overbeckstr. 7\, 50823 Köln\, [map id=897]
END:VEVENT
BEGIN:VTIMEZONE
TZID:Europe/Berlin
X-LIC-LOCATION:Europe/Berlin
BEGIN:DAYLIGHT
DTSTART:20190331T030000
TZOFFSETFROM:+0100
TZOFFSETTO:+0200
TZNAME:CEST
END:DAYLIGHT
END:VTIMEZONE
END:VCALENDAR