BEGIN:VCALENDAR
VERSION:2.0
PRODID:-//wp-events-plugin.com//7.2.3.1//EN
TZID:Europe/Berlin
X-WR-TIMEZONE:Europe/Berlin
BEGIN:VEVENT
UID:2896@frauenportal.koeln
DTSTART;TZID=Europe/Berlin:20201106T193000
DTEND;TZID=Europe/Berlin:20201106T214500
DTSTAMP:20201105T134513Z
URL:https://frauenportal.koeln/veranstaltungen/emma-goldman-stationen-eine
 r-freiheitsliebenden/
SUMMARY:Emma Goldman - Stationen einer Freiheitsliebenden
DESCRIPTION:Der Termin findet nicht statt.\n\n- Vortrag -\n\nEmma Goldman (
 1869 -1940) war eine rebellische jüdische Atheistin und ist bis heute ein
 e der bekanntesten Anarchistinnen. In der Hoffnung\, harter Fabrikarbeit i
 n der russischen Heimat zu entfliehen\, wanderte sie 17jährig in die USA 
 aus\, wo sie es nicht besser antraf.  Sie radikalisierte sich\, befürwort
 ete in der frühen Exilzeit Gewalt als Mittel des politischen Kampfes gege
 n Unterdrückung und kam wegen „Anstiftung zum Aufruhr“ ins Gefängnis
 . Später machte sie eine Kehrtwende zum Antimilitarismus und Pazifismus. 
 Über Jahre kämpfte Emma Goldman auf ermüdenden Vortragsreisen durch die
  ganze USA für Redefreiheit und anarchistische Utopien. Sie vertrat femin
 istische Positionen\, u.a. die Aufhebung des Abtreibungsverbots und propag
 ierte Geburtenkontrolle sowie freie Liebe - unabhängig von der sexuellen 
 Orientierung. Sie positionierte sich aber gegen bürgerliche Frauenwahlrec
 htskämpferinnen\, da sie die reine Gleichstellung der Frau mit dem Mann i
 n einem hierarchischen System ablehnte. Und sie kam in ihrem Gefühlsleben
  häufig in Konflikte mit den eigenen Ansprüchen. Sie wurde häufig verha
 ftet\, zuletzt im Ersten Weltkrieg wegen „Verschwörung zur Verhinderung
  der Einberufung zur Armee“.  1919 wurde sie aus den USA ausgewiesen. Zw
 angsweise in der Sowjetunion gelandet\, wurde Goldman zu einer vehementen 
 Kritikerin des jungen Systems. Wieder musste sie auswandern und neue Exill
 änder finden\, die sie aufnahmen. Wenig bekannt ist ihr Engagement für d
 en Spanischen Bürgerkrieg gegen Lebensende.\n\nReferentin:\nIrene Franken
 \n\nVeranstalterin:\nFriedensbildungswerk Köln (www.friedensbildungswerk.
 de)\nin Kooperation mit dem Kölner Frauengeschichtsverein e.V.\n\nKontakt
 :\nTel.: 0221 / 24 82 65\, E-Mail: info@frauengeschichtsverein.de\n\nKoste
 n / Anmeldung:\nEintritt frei\, Spenden erbeten\n\nVeranstaltungsort:\nFri
 edensbildungswerk\, Obenmarspforten 7-11\, 50667 Köln\, [map id=1086]
END:VEVENT
BEGIN:VTIMEZONE
TZID:Europe/Berlin
X-LIC-LOCATION:Europe/Berlin
BEGIN:STANDARD
DTSTART:20201025T020000
TZOFFSETFROM:+0200
TZOFFSETTO:+0100
TZNAME:CET
END:STANDARD
END:VTIMEZONE
END:VCALENDAR