BEGIN:VCALENDAR
VERSION:2.0
PRODID:-//wp-events-plugin.com//7.2.3.1//EN
TZID:Europe/Berlin
X-WR-TIMEZONE:Europe/Berlin
BEGIN:VEVENT
UID:4312@frauenportal.koeln
DTSTART;TZID=Europe/Berlin:20230615T190000
DTEND;TZID=Europe/Berlin:20230615T210000
DTSTAMP:20230531T160845Z
URL:https://frauenportal.koeln/veranstaltungen/engagement-oder-gratisarbei
 t/
SUMMARY:Engagement oder Gratisarbeit
DESCRIPTION:Ehrenamt zwischen Selbstorganisation und Selbstausbeutung.\nVor
 trag und Diskussion mit Claudia Pinl.\n\nKnapp die Hälfte der erwachsenen
  Bevölkerung ist in Deutschland in irgendeiner Form ehrenamtlich-freiwill
 ig tätig. Vorstandsarbeit bei (Frauen-)Vereinen gehört ebenso dazu wie F
 lüchtlingshilfe\, Lebensmittelausgabe bei den „Tafeln“ oder Engagemen
 t in selbst organisierten Initiativen aller Art.\n\nWelches Engagement ist
  in einer demokratischen Gesellschaft unverzichtbar und wo wird Engagement
  instrumentalisiert? Öffentliche Dienste\, Daseinsvorsorge und soziale Si
 cherheiten sind in Deutschland über Jahre abgebaut worden\, vor allem Fra
 uen füllen mit ihrer freiwilligen Arbeit Lücken im Sozial- und Bildungss
 ystem.\n\nIn Vortrag und Diskussion soll es um Kriterien für politische S
 innhaftigkeit und persönliche Zufriedenheit beim ehrenamtlichen Engagemen
 t gehen.\n\nClaudia Pinl\, geboren 1941\, Journalistin\, Publizistin\, Mit
 begründerin der 70er Jahre-Frauenbewegung in Köln\, veröffentlichte zah
 lreiche Bücher zu Feminismus\, Ehrenamt\, Frauen und Arbeit. \n\nVeransta
 lterin:\nBeginen Köln e.V.\n\nAnsprechpartnerin:\nChristine Müthrath\, T
 el.: 0221 / 9655820\, E-Mail: info@beginen.de\n\nKosten:\nKosten: 8 €\, 
 ermäßigt 5 € (für Beginen und Kölnpass-Inhaber*innen)
LOCATION:Beginenfenster Köln\, Markmannsgasse 7\, 50667 Köln
GEO:50.936778;6.961977
X-APPLE-STRUCTURED-LOCATION;VALUE=URI;X-ADDRESS=Markmannsgasse 7\, Köln\, 
 50667\, Frauenorganisation\, Deutschland;X-APPLE-RADIUS=100;X-TITLE=Begine
 nfenster Köln:geo:50.936778,6.961977
END:VEVENT
BEGIN:VTIMEZONE
TZID:Europe/Berlin
X-LIC-LOCATION:Europe/Berlin
BEGIN:DAYLIGHT
DTSTART:20230326T030000
TZOFFSETFROM:+0100
TZOFFSETTO:+0200
TZNAME:CEST
END:DAYLIGHT
END:VTIMEZONE
END:VCALENDAR