BEGIN:VCALENDAR
VERSION:2.0
PRODID:-//wp-events-plugin.com//7.2.3.1//EN
TZID:Europe/Berlin
X-WR-TIMEZONE:Europe/Berlin
BEGIN:VEVENT
UID:971@frauenportal.koeln
DTSTART;TZID=Europe/Berlin:20180421T100000
DTEND;TZID=Europe/Berlin:20180421T160000
DTSTAMP:20180122T080416Z
URL:https://frauenportal.koeln/veranstaltungen/entdecke-die-clownin-in-dir
 -6/
SUMMARY:Entdecke die Clownin in Dir!
DESCRIPTION:KennenlernTag in der ClownsZeit\n\nDie innere Clownin zu entdec
 ken ist ein möglicher Weg\, den Kontakt in uns lebendig werden zu lassen\
 , der uns erlaubt\, Lebensthemen und Alltagssituationen aus einer humorvol
 len Perspektive zu betrachten.\n\nNegativ belegte Emotionen und hemmende G
 edanken erfahren spielerisch eine konstruktive Wandlung. Die Übungen\, di
 e Verspieltheit\, Narrenfreiheit und die Vielfalt der Ausdrucksmöglichkei
 ten fördern\, stärken unsere Vitalität\, Lebensfreude und unseren Mut. 
 Sie lehren uns\, sogenannte Unzulänglichkeiten als eine energetisch wertv
 olle Spiel- und Wachstumsmöglichkeit zu erleben. Darüber hinaus wird die
  Arbeit als CliniClownin angesprochen.\n\nLeitung: Denise May\nZeit: 10 - 
 16 Uhr\, Kosten 60 Euro\n\nBitte in bequemer Kleidung kommen und Turn-\, G
 ymnastikschlüppchen oder Stoppersocken mitbringen.\n\nAnmeldung und weite
 re Informationen: Denise May\, ClownsZeit – Die Clownsschule für Frauen
END:VEVENT
BEGIN:VTIMEZONE
TZID:Europe/Berlin
X-LIC-LOCATION:Europe/Berlin
BEGIN:DAYLIGHT
DTSTART:20180325T030000
TZOFFSETFROM:+0100
TZOFFSETTO:+0200
TZNAME:CEST
END:DAYLIGHT
END:VTIMEZONE
END:VCALENDAR