BEGIN:VCALENDAR
VERSION:2.0
PRODID:-//wp-events-plugin.com//7.2.3.1//EN
TZID:Europe/Berlin
X-WR-TIMEZONE:Europe/Berlin
BEGIN:VEVENT
UID:3724@frauenportal.koeln
DTSTART;TZID=Europe/Berlin:20220406T180000
DTEND;TZID=Europe/Berlin:20220406T210000
DTSTAMP:20220331T093532Z
URL:https://frauenportal.koeln/veranstaltungen/equal-pay-day-2022-filmvorf
 uehrung-und-diskussionsrunde/
SUMMARY:Equal Pay Day 2022 - Filmvorführung und Diskussionsrunde
DESCRIPTION:Anlässlich des Equal Pay Days 2022 am 07.03.2022 geht das Bün
 dnis der Katholischen Verbände der Frage nach\, ob mehr Lohngerechtigkeit
  herrschte\, wenn mehr Frauen im Parlament vertreten wären. Die Lohnlück
 e zwischen Frauen und Männern in Deutschland liegt 2022 noch immer bei du
 rchschnittlich 18%.\n\nDas Bündnis fordert Lohngerechtigkeit für Frauen 
 und Männer\, wenn sie gleiche und gleichwertige Arbeit leisten. Gleichber
 echtigung hat wesentlich mit gleicher Entlohnung zu tun. Diskriminierungen
  aufgrund des Geschlechts müssen grundsätzlich aufgehoben werden\, auch 
 in der ständig wachsenden digitalen Arbeitswelt.\n\nFilmvorführung und D
 iskussion am 06.04.2022:\n\nDer Film "Die Unbeugsamen" erzählt die Geschi
 chte der Frauen der „Bonner Republik“\, die sich ihre Beteiligung an d
 emokratischen Entscheidungsprozessen erkämpfen mussten. Auch heute sind d
 ie Fragen erschreckend aktuell\, denen sich schon diese Frauen stellen mus
 sten.\n\nAnschließend wird diskutiert\, ob darin eine Ursache für die Lo
 hnungerechtigkeit liegt\, mit: Ingrid Matthäus-Maier (ehemalige Verwaltun
 gsrichterin\, Bundestagsabgeordnete und Sprecherin der KfW\, jetzt Pension
 ärin) und Katja Dörner (Oberbürgermeisterin der Bundesstadt Bonn\, ehem
 alige Bundestagsabgeordnete).\n\nVeranstalterinnen:\n\n 	Katholische Fraue
 ngemeinschaft Deutschlands\n 	Katholischer Deutscher Frauenbund e.V.\n 	Ka
 tholische Arbeitnehmer Bewegung (KAB)\, www.kabdvkoeln.de\n 	Bund der Deut
 schen Katholischen Jugend (BDKJ)\, www.bdkj-dv-koeln.de\n 	Zentralverband 
 Katholischer Kirchenangestellter e.V.\, www.zkd-online.de\n\n\nAnsprechpar
 tnerin:\nAndrea Monschau\, Tel.: 0221 / 1642-1545\, E-Mail: info@kfd-koeln
 .de\n\nKosten / Anmeldung:\n8\,00 € (zahlbar an der Kinokasse)\nDie Vera
 nstaltung findet unter den zu diesem Zeitpunkt gültigen Hygieneregeln sta
 tt.\n\nVeranstaltungsort:\nOdeon\, Severinstraße 81\, 50678 Köln\, [map 
 id=13681]
END:VEVENT
BEGIN:VTIMEZONE
TZID:Europe/Berlin
X-LIC-LOCATION:Europe/Berlin
BEGIN:DAYLIGHT
DTSTART:20220327T030000
TZOFFSETFROM:+0100
TZOFFSETTO:+0200
TZNAME:CEST
END:DAYLIGHT
END:VTIMEZONE
END:VCALENDAR