BEGIN:VCALENDAR
VERSION:2.0
PRODID:-//wp-events-plugin.com//7.2.3.1//EN
TZID:Europe/Berlin
X-WR-TIMEZONE:Europe/Berlin
BEGIN:VEVENT
UID:4235@frauenportal.koeln
DTSTART;TZID=Europe/Berlin:20230308T183000
DTEND;TZID=Europe/Berlin:20230308T200000
DTSTAMP:20230228T131949Z
URL:https://frauenportal.koeln/veranstaltungen/equal-pay-day-2023-die-kuns
 t-der-gleichen-bezahlung/
SUMMARY:Equal Pay Day 2023 - Die Kunst der gleichen Bezahlung
DESCRIPTION:– Veranstaltung anlässlich des Equal Pay Days 2023 am 07.03.
 2023 des Bündnisses der Katholischen Verbände –\n\nIn Kunst und Kultur
  gibt es einen eklatanten Gender Pay Gap von über 30 Prozent. Wie kommt e
 s dazu und was lässt sich dagegen unternehmen?\n\nDiese Fragen werden dis
 kutiert mit:\n\n 	Anka Zink\, Kabarettistin\n 	Sarah van Dawen-Agreiter\, 
 ver.di\n\nModeration: Annika Triller\, KAB\n\nHier ist die Einladung: Plak
 at-EPD-2023 (pdf-Datei\, 579 KB)\n\nVeranstalterinnen:\n\n 	Katholische Fr
 auengemeinschaft Deutschlands\n 	Katholischer Deutscher Frauenbund e.V.\n 
 	Katholische Arbeitnehmer Bewegung (KAB)\, www.kabdvkoeln.de\n 	Zentralver
 band Katholischer Kirchenangestellter e.V.\, www.zkd-online.de\n\nAnsprech
 partnerin:\nAndrea Monschau\, Tel.: 0221 / 1642-1545\, E-Mail: info@kfd-ko
 eln.de\n\nKosten / Anmeldung:\n5 Euro\, Anmeldung unter: www.kfd-koeln.de/
 termine/veranstaltung/Equal-Pay-Day-2023-Die-Kunst-der-gleichen-Bezahlung-
 2023.03.08/
LOCATION:Kunststation Sankt Peter\, Jabachstr. 1\, 50676 Köln
GEO:50.934334;6.951888000000054
X-APPLE-STRUCTURED-LOCATION;VALUE=URI;X-ADDRESS=Jabachstr. 1\, Köln\, 5067
 6\, Veranstaltungsort\, Deutschland;X-APPLE-RADIUS=100;X-TITLE=Kunststatio
 n Sankt Peter:geo:50.934334,6.951888000000054
END:VEVENT
BEGIN:VTIMEZONE
TZID:Europe/Berlin
X-LIC-LOCATION:Europe/Berlin
BEGIN:STANDARD
DTSTART:20221030T020000
TZOFFSETFROM:+0200
TZOFFSETTO:+0100
TZNAME:CET
END:STANDARD
END:VTIMEZONE
END:VCALENDAR