BEGIN:VCALENDAR
VERSION:2.0
PRODID:-//wp-events-plugin.com//7.2.3.1//EN
TZID:Europe/Berlin
X-WR-TIMEZONE:Europe/Berlin
BEGIN:VEVENT
UID:2541@frauenportal.koeln
DTSTART;TZID=Europe/Berlin:20200310T183000
DTEND;TZID=Europe/Berlin:20200310T210000
DTSTAMP:20200306T132859Z
URL:https://frauenportal.koeln/veranstaltungen/equal-pay-day-auf-augenhoeh
 e-verhandeln-wir-sind-bereit/
SUMMARY:Equal Pay Day: Auf Augenhöhe verhandeln - wir sind bereit!
DESCRIPTION:Zum Equal Pay Day sollen dieses Jahr Neu- & QuerdenkerInnen und
  alle die zusammen gebracht werden\, die die Zukunft der Arbeit und der Ge
 sellschaft mitgestalten wollen.\n\nProgramm:\n \nMit dem diesjährigen Mot
 to „Auf Augenhöhe verhandeln“ liegt der Fokus auf neuen Impulsen für
  die Praxis. Welche Rolle spielt der Unconscious Bias – unbewusste Stere
 otype und Rollenerwartungen – in Verhandlungen? Gestartet wird mit einem
  spannenden Impuls von Verena Wiget.\n\nVielfalt stellt Führungskräfte e
 rstmal vor Herausforderungen. Wie funktioniert faire Führung in diversen 
 Teams ganz praktisch? Veronika Hucke war über zwei Jahrzehnte lang in Fü
 hrungspositionen in internationalen Konzernen tätig. Am Equal Pay Day ste
 llt sie ihr brandneues Buch vor – einen Praxisguide für faire Führung.
 \n\nEin weiteres Highlight des Abends: der Launch der neuen Paygap App\, m
 it sich der individuelle Pay Gap bis zur Rente berechnen lässt – die pe
 rfekte Grundlage für die Gehaltsverhandlung.\n\nInnovationen\, die die Ar
 beitswelt revolutionieren\, treiben Katharina Wiench und Esther Himmen vor
 an. Die Gründerinnen und Geschäftsführerinnen von „Pairforming“ unt
 erstützen Führungskräfte und Unternehmen durch TopSharing Freiräume zu
  gewinnen und Potenziale zu heben. Wie Führung im Tandem gelingt\, zeigen
  sie anhand erfolgreicher Praxisbeispiele und stellen ihre „10-Schritte-
 Anleitung“ vor.\n\nAlles verhandelbar – auch im Privaten? Jürgen Kura
 \, Vorsitzender des Väter in Köln e.V. zeigt anhand anschaulicher Praxis
 beispiele\, welche Rolle Verhandeln im Privaten spielt und wie eine gleich
 berechtigte Partnerschaft gelingt.\n\nEin Abend mit spannenden Impulsgeber
 Innen und einem interaktiven Austausch bei einer Fishbowl-Diskussion!\n\nH
 ier ist das Programm: EPD Köln 2020 Programmflyer (pdf-Datei\, 949 KB)\n\
 nHier ist die Ankündigung: EPD Plakat 2020 (pdf-Datei\, 2 MB)\n\nVeransta
 lterinnen:\nBPW Germany Club Köln\nmit zahlreichen KooperationspartnerInn
 en.\n\nAnsprechpartnerin:\nJessica Espinoza\, Melanie Garbrecht\, Beatrix 
 von Rantzau\, E-Mail: epd-koeln@web.de\n\nKosten / Anmeldung:\nEintritt fr
 ei. Um Anmeldung wird gebeten unter: www.eventbrite.de/e/equal-pay-day-202
 0-koln-tickets-89425372697\n\nVeranstaltungsort:\nForum Volkshochschule im
  Kulturquartier\, Rautenstrauch-Joest-Museum\, Cäcilienstr. 29-33\, 50667
  Köln\, [map id=927]
END:VEVENT
BEGIN:VTIMEZONE
TZID:Europe/Berlin
X-LIC-LOCATION:Europe/Berlin
BEGIN:STANDARD
DTSTART:20191027T020000
TZOFFSETFROM:+0200
TZOFFSETTO:+0100
TZNAME:CET
END:STANDARD
END:VTIMEZONE
END:VCALENDAR